BEGIN:VCALENDAR
VERSION:2.0
PRODID:-//ChamberMaster//Event Calendar 2.0//EN
METHOD:PUBLISH
X-PUBLISHED-TTL:P3D
REFRESH-INTERVAL:P3D
CALSCALE:GREGORIAN
BEGIN:VEVENT
DTSTART:20240912T000000Z
DTEND:20240912T030000Z
X-MICROSOFT-CDO-ALLDAYEVENT:FALSE
SUMMARY:Open Mic Night
DESCRIPTION:Join us for an open mic night at Water Street Social Club. We welcome music\, comedy\, spoken word\, etc. Jesse & Paul will kick things off at 7 pm. Sign-ups start at 6 pm.
X-ALT-DESC;FMTTYPE=text/html:Join us for an open mic night at Water Street Social Club. We welcome music\, comedy\, spoken word\, etc. Jesse &amp\; Paul will kick things off at 7 pm. Sign-ups start at 6 pm.
LOCATION:Water Street Social Club
UID:e.1184.33026
SEQUENCE:3
DTSTAMP:20260419T224537Z
URL:http://business.saukprairie.com/events/details/open-mic-night-33026
END:VEVENT

END:VCALENDAR
