BEGIN:VCALENDAR
VERSION:2.0
PRODID:-//ChamberMaster//Event Calendar 2.0//EN
METHOD:PUBLISH
X-PUBLISHED-TTL:P3D
REFRESH-INTERVAL:P3D
CALSCALE:GREGORIAN
BEGIN:VEVENT
DTSTART:20240707T180000Z
DTEND:20240707T210000Z
X-MICROSOFT-CDO-ALLDAYEVENT:FALSE
SUMMARY:Open House at Harrisburg-Troy Historical School
DESCRIPTION:New Changes in Open House Events\n\n \n\n\n\nThis is the year for changes at Harrisburg! In the past\, we have had Open House events on 2 Sundays of each month from the end of May to the beginning of September. This year\, to hopefully attract more participants\, we have decided to have only one Sunday per month\, but with a lot more kick to it!\n\n \n\n\n\nOther events to be held this summer are as follows:\n\n \n\n\n\nJuly 7   We will be celebrating our Veterans with a Car Show.\n\nAugust 4   We will be celebrating 4H\n\nSeptember 15   We will be hosting a Farmer's Market & a Tractor Show .\n\n\n\n\n\n\nFun facts about the Harrisburg-Troy Historical School\n\n\n	HARRISBURG SCHOOL DISTRICT NO THREE  36x28x14 feet was erected in 1892 for a cost of $885.\n	The school closed in May of 1955 and became part of the consolidated Black Hawk School.\n	In 2001 interest in restoring the school for historic places became a reality.\n	Harrisburg-Troy Historical Society Inc. was organized in 2007.\n	Sauk County Historical Site  2011\n	Wisconsin Register of Historic Places   2014\n	National Register of Historic Places  2015\n	One Room School National Registry  2023\n\nThe school replicates early days with many original items and a step into the past.  The basement is a museum of historical Town of Troy items and artifacts.  A Veterans display is included.\n\n \n\nHeritage Museum is adjacent to the school.\n\n\n\nHERITAGE MUSEUM was added in 1995 and includes tools and implements that would have been used by farmers in an earlier era and a Farm Kitchen.\n\n \n\nGreeters will be present at each OPEN HOUSE. Come see and enjoy the experience at the Harrisburg-Troy Historical School!
X-ALT-DESC;FMTTYPE=text/html:<div>\n<div dir="auto">New Changes in Open House Events<br />\n&nbsp\;</div>\n</div>\n\n<div>\n<div dir="auto">This is the year for changes at Harrisburg! In the past\, we have had Open House events on 2 Sundays of each month from the end of May to the beginning of September. This year\, to hopefully attract more participants\, we have decided to have only one Sunday per month\, but with a lot more kick to it!<br />\n&nbsp\;</div>\n</div>\n\n<div>\n<div dir="auto">Other events to be held this summer are as follows:<br />\n&nbsp\;</div>\n</div>\n\n<div>\n<div dir="auto">July 7 &ndash\; We will be celebrating our Veterans with a Car Show.</div>\n\n<div dir="auto">August 4 &ndash\; We will be celebrating 4H</div>\n\n<div dir="auto">September 15 &ndash\; We will be hosting a Farmer&rsquo\;s Market &amp\; a Tractor Show .</div>\n</div>\n\n<p><br />\n<br />\nFun facts about the Harrisburg-Troy Historical School</p>\n\n<ul>\n	<li>HARRISBURG SCHOOL DISTRICT NO THREE &nbsp\;36x28x14 feet was erected in 1892 for a cost of $885.</li>\n	<li>The school closed in May of 1955 and became part of the consolidated Black Hawk School.</li>\n	<li>In 2001 interest in restoring the school for historic places became a reality.</li>\n	<li>Harrisburg-Troy Historical Society Inc. was organized in 2007.</li>\n	<li>Sauk County Historical Site&nbsp\; 2011</li>\n	<li>Wisconsin Register of Historic Places&nbsp\;&nbsp\; 2014</li>\n	<li>National Register of Historic Places&nbsp\; 2015</li>\n	<li>One Room School National Registry&nbsp\; 2023</li>\n</ul>\n<span style="color:rgb(68\, 68\, 68)\; font-family:arial\,helvetica\,sans-serif\; font-size:14px">The school replicates early days with many original items and a step into the past.&nbsp\; The basement is a museum of historical Town of Troy items and artifacts.&nbsp\; A Veterans display is included.</span><br />\n<span style="color:rgb(68\, 68\, 68)\; font-family:arial\,helvetica\,sans-serif\; font-size:14px">&nbsp\;</span><br />\n<span style="color:rgb(68\, 68\, 68)\; font-family:arial\,helvetica\,sans-serif\; font-size:14px">Heritage Museum is adjacent to the school.</span><br />\n<br />\n<span style="color:rgb(68\, 68\, 68)\; font-family:arial\,helvetica\,sans-serif\; font-size:14px">HERITAGE MUSEUM was added in 1995 and includes tools and implements that would have been used by farmers in an earlier era and a Farm Kitchen.</span><br />\n<span style="color:rgb(68\, 68\, 68)\; font-family:arial\,helvetica\,sans-serif\; font-size:14px">&nbsp\;</span><br />\n<span style="color:rgb(68\, 68\, 68)\; font-family:arial\,helvetica\,sans-serif\; font-size:14px">Greeters will be present at each OPEN HOUSE. Come see and enjoy the experience at the Harrisburg-Troy Historical School!</span>
LOCATION:
UID:e.1184.30845
SEQUENCE:3
DTSTAMP:20260420T013128Z
URL:http://business.saukprairie.com/events/details/open-house-at-harrisburg-troy-historical-school-09-03-2023-30845
END:VEVENT

END:VCALENDAR
