BEGIN:VCALENDAR
VERSION:2.0
PRODID:-//ChamberMaster//Event Calendar 2.0//EN
METHOD:PUBLISH
X-PUBLISHED-TTL:P3D
REFRESH-INTERVAL:P3D
CALSCALE:GREGORIAN
BEGIN:VEVENT
DTSTART:20241212T150000Z
DTEND:20241212T180000Z
X-MICROSOFT-CDO-ALLDAYEVENT:FALSE
SUMMARY:Non-Profit Roundtable
DESCRIPTION:Join Sauk Prairie area non-profit leaders for a quarterly meeting. \n\nFor this session\, John Ramthun with 6:8 Inc. will "How to Reimagine non-profits and the donors who support us".
X-ALT-DESC;FMTTYPE=text/html:Join Sauk Prairie area non-profit leaders for a quarterly meeting.&nbsp\;<br />\nFor this session\, John Ramthun with 6:8 Inc. will &quot\;How to Reimagine non-profits and the donors who support us&quot\;.&nbsp\;
LOCATION:Sauk Prairie Police Department Conference Room 640 13th Street Prairie du Sac\, WI 53578
UID:e.1184.31564
SEQUENCE:3
DTSTAMP:20260419T184639Z
URL:http://business.saukprairie.com/events/details/non-profit-roundtable-31564
END:VEVENT

END:VCALENDAR
