BEGIN:VCALENDAR
VERSION:2.0
PRODID:-//ChamberMaster//Event Calendar 2.0//EN
METHOD:PUBLISH
X-PUBLISHED-TTL:P3D
REFRESH-INTERVAL:P3D
CALSCALE:GREGORIAN
BEGIN:VEVENT
DTSTART:20240613T140000Z
DTEND:20240613T170000Z
X-MICROSOFT-CDO-ALLDAYEVENT:FALSE
SUMMARY:Non-Profit Roundtable
DESCRIPTION:Join Sauk Prairie area non-profit leaders for a quarterly meeting. \n\nFor this session\, we will continue discussing goal setting and begin a conversation around Volunteer Engagement. John Ramthun with 6:8 has provided a Tool-Kit that will be shared and will be our road map for this work. Thank you\, John!
X-ALT-DESC;FMTTYPE=text/html:Join Sauk Prairie area non-profit leaders for a quarterly meeting.&nbsp\;<br />\nFor this session\, we will continue discussing goal setting and begin a conversation around Volunteer Engagement. John Ramthun with 6:8 has provided a Tool-Kit that will be shared and will be our road map for this work. Thank you\, John!&nbsp\;&nbsp\;
LOCATION:Sauk Prairie Police Department Conference Room 640 13th Street Prairie du Sac\, WI 53578
UID:e.1184.31562
SEQUENCE:3
DTSTAMP:20260420T025113Z
URL:http://business.saukprairie.com/events/details/non-profit-roundtable-31562
END:VEVENT

END:VCALENDAR
