BEGIN:VCALENDAR
VERSION:2.0
PRODID:-//ChamberMaster//Event Calendar 2.0//EN
METHOD:PUBLISH
X-PUBLISHED-TTL:P3D
REFRESH-INTERVAL:P3D
CALSCALE:GREGORIAN
BEGIN:VEVENT
DTSTART:20250217T173000Z
DTEND:20250217T193000Z
X-MICROSOFT-CDO-ALLDAYEVENT:FALSE
SUMMARY:No School Day: Cardboard Creations
DESCRIPTION:Get creative with cardboard! Use boxes and cardboard pieces to build whatever you can imagine! We will supply cardboard\, scissors\, and tape to build awesome creations!\n\nNo registration required. Geared for ages K-5th.
X-ALT-DESC;FMTTYPE=text/html:Get creative with cardboard! Use boxes and cardboard pieces to build whatever you can imagine! We will supply cardboard\, scissors\, and tape to build awesome creations!<br />\nNo registration required. Geared for ages K-5th.
LOCATION:George Culver Community Library - Sauk City
UID:e.1184.34739
SEQUENCE:3
DTSTAMP:20260419T153047Z
URL:http://business.saukprairie.com/events/details/no-school-day-cardboard-creations-34739
END:VEVENT

END:VCALENDAR
