BEGIN:VCALENDAR
VERSION:2.0
PRODID:-//ChamberMaster//Event Calendar 2.0//EN
METHOD:PUBLISH
X-PUBLISHED-TTL:P3D
REFRESH-INTERVAL:P3D
CALSCALE:GREGORIAN
BEGIN:VEVENT
DTSTART:20241016T200000Z
DTEND:20241016T210000Z
X-MICROSOFT-CDO-ALLDAYEVENT:FALSE
SUMMARY:Music & Movement
DESCRIPTION:Bi-weekly Wednesdays at 3:00 p.m.\n\nGet your wiggles out with scarves\, instruments\, movement\, and games! Fun activities for ages 5 and under. No registration required.
X-ALT-DESC;FMTTYPE=text/html:Bi-weekly Wednesdays at 3:00 p.m.<br />\nGet your wiggles out with scarves\, instruments\, movement\, and games! Fun activities for ages 5 and under. No registration required.
LOCATION:George Culver Community Library - Sauk City
UID:e.1184.33082
SEQUENCE:3
DTSTAMP:20260419T213117Z
URL:http://business.saukprairie.com/events/details/music-movement-10-16-2024-33082
END:VEVENT

END:VCALENDAR
