BEGIN:VCALENDAR
VERSION:2.0
PRODID:-//ChamberMaster//Event Calendar 2.0//EN
METHOD:PUBLISH
X-PUBLISHED-TTL:P3D
REFRESH-INTERVAL:P3D
CALSCALE:GREGORIAN
BEGIN:VEVENT
DTSTART:20230712T141500Z
DTEND:20230712T170000Z
X-MICROSOFT-CDO-ALLDAYEVENT:FALSE
SUMMARY:Morning Movie Age 55+
DESCRIPTION:FREE Morning Movie for Seniors at the River Arts Center theater (age 55+). Snacks & coffee at 9:15. The movie will start roughly at 9:45 am. Call 643-8386 to register
X-ALT-DESC;FMTTYPE=text/html:FREE Morning Movie for Seniors at the River Arts Center theater (age 55+). Snacks &amp\; coffee at 9:15. The movie will start roughly at 9:45 am. Call 643-8386 to register
LOCATION:River Arts Center Theater 105 9th St\, Prairie Du Sac\, WI 53578
UID:e.1184.30877
SEQUENCE:3
DTSTAMP:20260420T192516Z
URL:http://business.saukprairie.com/events/details/morning-movie-age-55-30877
END:VEVENT

END:VCALENDAR
