BEGIN:VCALENDAR
VERSION:2.0
PRODID:-//ChamberMaster//Event Calendar 2.0//EN
METHOD:PUBLISH
X-PUBLISHED-TTL:P3D
REFRESH-INTERVAL:P3D
CALSCALE:GREGORIAN
BEGIN:VEVENT
DTSTART;VALUE=DATE:20230701
DTEND;VALUE=DATE:20230702
TRANSP:TRANSPARENT
X-MICROSOFT-CDO-ALLDAYEVENT:TRUE
SUMMARY:Merrimac Fireworks - CANCELED
DESCRIPTION:CANCELED\n\n\n\n* We are sad to say due to the current weather conditions and affect on the fireworks grounds the lack of the rain has caused the department has decided for the safety of those who would attend\, the community and our members to cancel the fireworks for this year.\n\n\n\nMerrimac Fire & Rescue Annual Fireworks Show!\n\n\n\n*Gate opens at 5:00\n\n* $5.00 a Carload\n\n* Music & Concessions\n\n* Fireworks at Dusk
X-ALT-DESC;FMTTYPE=text/html:<strong>CANCELED<br />\n<br />\n* We are sad to say due to the current weather conditions and affect on the fireworks grounds the lack of the rain has caused the department has decided for the safety of those who would attend\, the community and our members to cancel the fireworks for this year.</strong><br />\n<br />\nMerrimac Fire &amp\; Rescue Annual Fireworks Show!<br />\n<br />\n*Gate opens at 5:00<br />\n* $5.00 a Carload<br />\n* Music &amp\; Concessions<br />\n* Fireworks at Dusk
LOCATION:S7116 Bluff Road\, Merrimac\, WI
UID:e.1184.30872
SEQUENCE:3
DTSTAMP:20260420T180344Z
URL:http://business.saukprairie.com/events/details/merrimac-fireworks-canceled-30872
END:VEVENT

END:VCALENDAR
