BEGIN:VCALENDAR
VERSION:2.0
PRODID:-//ChamberMaster//Event Calendar 2.0//EN
METHOD:PUBLISH
X-PUBLISHED-TTL:P3D
REFRESH-INTERVAL:P3D
CALSCALE:GREGORIAN
BEGIN:VEVENT
DTSTART;VALUE=DATE:20240803
DTEND;VALUE=DATE:20240804
TRANSP:TRANSPARENT
X-MICROSOFT-CDO-ALLDAYEVENT:TRUE
SUMMARY:Merrimac Community Festival
DESCRIPTION:Come visit the 2024 Merrimac Community Festival! Live music\, ski shows\, great food and beverages\, vendors\, and tons of kids games.\n\n\n\nMerrimac is located on the eastern edge of Sauk County and is seven miles northwest of Lodi (across the ferry)\, eleven miles south of Baraboo\, eleven miles north of Prairie du Sac\, and fifteen miles southwest of Portage. Merrimac Memorial Park 145 Front St\, Merrimac\, WI 53561
X-ALT-DESC;FMTTYPE=text/html:Come visit the 2024 Merrimac Community Festival! Live music\, ski shows\, great food and beverages\, vendors\, and tons of kids games.<br />\n<br />\nMerrimac is located on the eastern edge of Sauk County and is seven miles northwest of Lodi (across the ferry)\, eleven miles south of Baraboo\, eleven miles north of Prairie du Sac\, and fifteen miles southwest of Portage. Merrimac Memorial Park 145 Front St\, Merrimac\, WI 53561
LOCATION:Merrimac Memorial Park
UID:e.1184.32860
SEQUENCE:3
DTSTAMP:20260420T001230Z
URL:http://business.saukprairie.com/events/details/merrimac-community-festival-32860
END:VEVENT

END:VCALENDAR
