BEGIN:VCALENDAR
VERSION:2.0
PRODID:-//ChamberMaster//Event Calendar 2.0//EN
METHOD:PUBLISH
X-PUBLISHED-TTL:P3D
REFRESH-INTERVAL:P3D
CALSCALE:GREGORIAN
BEGIN:VEVENT
DTSTART:20240622T160000Z
DTEND:20240622T180000Z
X-MICROSOFT-CDO-ALLDAYEVENT:FALSE
SUMMARY:Meet & Greet Event @ Ferry Landing Concessions
DESCRIPTION:Come and meet adoptable dogs from a great rescue\, and indulge in Chocolate Shoppe Ice Cream!
X-ALT-DESC;FMTTYPE=text/html:Come and meet adoptable dogs from a great rescue\, and indulge in Chocolate Shoppe Ice Cream!
LOCATION:Merrimac Ferry Landing Concessions
UID:e.1184.32797
SEQUENCE:3
DTSTAMP:20260420T025247Z
URL:http://business.saukprairie.com/events/details/meet-greet-event-ferry-landing-concessions-32797
END:VEVENT

END:VCALENDAR
