BEGIN:VCALENDAR
VERSION:2.0
PRODID:-//ChamberMaster//Event Calendar 2.0//EN
METHOD:PUBLISH
X-PUBLISHED-TTL:P3D
REFRESH-INTERVAL:P3D
CALSCALE:GREGORIAN
BEGIN:VEVENT
DTSTART:20240824T150000Z
DTEND:20240824T170000Z
X-MICROSOFT-CDO-ALLDAYEVENT:FALSE
SUMMARY:Make a Succulent Mini-Garden with Mary Dickey
DESCRIPTION:Make a Succulent Mini-Garden with Mary Dickey\n\n590 Water St\, Prairie du Sac\, WI 53578\n\nSaturday\, August 24\, 2024 | 10a-12p | Deadline to register: August 21\, 2024\n\n$50 + $25 kit fee\n\nOpen to all ages! \n\nThis class provides an introduction to succulent varieties and how to reproduce and care for them. Everyone will take home their own mini garden that they planted in a pot made by artist Alyssa Martz!\n\nKit fee covers the artist-made pot\, succulent cuttings\, potting soil.\n\nHere is the pot made by Alyssa Martz included with class registration!
X-ALT-DESC;FMTTYPE=text/html:<p><strong>Make a Succulent Mini-Garden with Mary Dickey</strong></p>\n\n<p><strong>590 Water St\, Prairie du Sac\, WI 53578</strong></p>\n\n<p><strong>Saturday\, August 24\, 2024 | 10a-12p</strong>&nbsp\;| Deadline to register: August 21\, 2024</p>\n\n<p><strong>$50 + $25 kit fee</strong></p>\n\n<p><strong>Open to all ages!&nbsp\;</strong></p>\n\n<p>This class provides an introduction to succulent varieties and how to reproduce and care for them. Everyone will take home their own mini garden that they planted in a pot made by artist&nbsp\;<a href="https://www.riverartsinc.org/alyssa-martz/" style="padding: 0px\; margin: 0px\; text-decoration-line: none\; color: rgb(50\, 74\, 178) !important\;">Alyssa Martz</a>!</p>\n\n<p><strong>Kit fee</strong>&nbsp\;covers the artist-made pot\, succulent cuttings\, potting soil.</p>\n\n<p><strong>Here is the pot made by Alyssa Martz included with class registration!</strong></p>\n
LOCATION:River Arts on Water
UID:e.1184.32858
SEQUENCE:3
DTSTAMP:20260420T000346Z
URL:http://business.saukprairie.com/events/details/make-a-succulent-mini-garden-with-mary-dickey-32858
END:VEVENT

END:VCALENDAR
