BEGIN:VCALENDAR
VERSION:2.0
PRODID:-//ChamberMaster//Event Calendar 2.0//EN
METHOD:PUBLISH
X-PUBLISHED-TTL:P3D
REFRESH-INTERVAL:P3D
CALSCALE:GREGORIAN
BEGIN:VEVENT
DTSTART:20230719T183000Z
DTEND:20230719T193000Z
X-MICROSOFT-CDO-ALLDAYEVENT:FALSE
SUMMARY:Magic of Isaiah
DESCRIPTION:Join us for an interactive show for all ages incorporating comedy\, magic and illusion.
X-ALT-DESC;FMTTYPE=text/html:Join us for an interactive show for all ages incorporating comedy\, magic and illusion.
LOCATION:615 Phillips Blvd. Sauk City\, WI 53583
UID:e.1184.30876
SEQUENCE:3
DTSTAMP:20260420T180612Z
URL:http://business.saukprairie.com/events/details/magic-of-isaiah-07-19-2023-30876
END:VEVENT

END:VCALENDAR
