BEGIN:VCALENDAR
VERSION:2.0
PRODID:-//ChamberMaster//Event Calendar 2.0//EN
METHOD:PUBLISH
X-PUBLISHED-TTL:P3D
REFRESH-INTERVAL:P3D
CALSCALE:GREGORIAN
BEGIN:VEVENT
DTSTART:20241204T234500Z
DTEND:20241205T004500Z
X-MICROSOFT-CDO-ALLDAYEVENT:FALSE
SUMMARY:Love Lights Tree Lighting Ceremony
DESCRIPTION:The Friends of Sauk Prairie Healthcare invite you to be part of its annual Love Lights Tree Lighting Ceremony on Wednesday\, December 4\, 2024 at 5:45 p.m. in the Sauk Prairie Hospital Conference Center (260 26th St.\, Prairie du Sac). Enjoy a program followed by a song as the tree is lit.\n\n\n\nHonor someone special in your life or a loved one who has passed with a Love Light. Bulbs are $5 per name\, or you can become a sponsor for $50. Visit www.SaukPrairieHealthcare.org/Love-Lights for more details.\n\n\n\nProceeds from the fundraiser benefit the Friends' mission to support special hospital and clinic needs. Questions can be directed to the Sauk Prairie Healthcare Volunteer Office at 608-643-7257 or Volunteers@SaukPrairieHealthcare.org.
X-ALT-DESC;FMTTYPE=text/html:The Friends of Sauk Prairie Healthcare invite you to be part of its annual Love Lights Tree Lighting Ceremony on Wednesday\, December 4\, 2024 at 5:45 p.m. in the Sauk Prairie Hospital Conference Center (260 26<sup>th</sup> St.\, Prairie du Sac). Enjoy a program followed by a song as the tree is lit.<br />\n<br />\nHonor someone special in your life or a loved one who has passed with a Love Light. Bulbs are $5 per name\, or you can become a sponsor for $50. Visit <a href="http://www.saukprairiehealthcare.org/Love-Lights">www.SaukPrairieHealthcare.org/Love-Lights</a> for more details.<br />\n<br />\nProceeds from the fundraiser benefit the Friends&rsquo\; mission to support special hospital and clinic needs. Questions can be directed to the Sauk Prairie Healthcare Volunteer Office at 608-643-7257 or <a href="mailto:Volunteers@SaukPrairieHealthcare.org">Volunteers@SaukPrairieHealthcare.org</a>.
LOCATION:Sauk Prairie Hospital Conference Center
UID:e.1184.34360
SEQUENCE:3
DTSTAMP:20260419T183419Z
URL:http://business.saukprairie.com/events/details/love-lights-tree-lighting-ceremony-12-04-2024-34360
END:VEVENT

END:VCALENDAR
