BEGIN:VCALENDAR
VERSION:2.0
PRODID:-//ChamberMaster//Event Calendar 2.0//EN
METHOD:PUBLISH
X-PUBLISHED-TTL:P3D
REFRESH-INTERVAL:P3D
CALSCALE:GREGORIAN
BEGIN:VEVENT
DTSTART:20230819T150000Z
DTEND:20230819T190000Z
X-MICROSOFT-CDO-ALLDAYEVENT:FALSE
SUMMARY:Let's Flamingle!
DESCRIPTION:Sponsored by Meyer Insurance\, Lets Flamingle is all about our small business! We have over 20 businesses offering deals and promotional sales. We will have a raffle at the Meyer Insurance booth at the Sauk City Riverfront Plaza. Bring us your receipts from participating businesses to enter! Let's Flamingle will run from 10am-2pm Saturday\, August 19th. We'll have food\, entertainment\, music\, shopping and more! Visit www.meyeragency.com/flamingle for more information!
X-ALT-DESC;FMTTYPE=text/html:<div>Sponsored by Meyer Insurance\, Lets Flamingle is all about our small business! We have over 20 businesses offering deals and promotional sales. We will have a raffle at the Meyer Insurance booth at the Sauk City Riverfront Plaza. Bring us your receipts from participating businesses to enter! Let&rsquo\;s Flamingle will run from 10am-2pm Saturday\, August 19<sup>th</sup>. We&rsquo\;ll have food\, entertainment\, music\, shopping and more! Visit <a href="http://www.meyeragency.com/flamingle">www.meyeragency.com/flamingle</a> for more information!</div>\n
LOCATION:
UID:e.1184.30734
SEQUENCE:3
DTSTAMP:20260420T165016Z
URL:http://business.saukprairie.com/events/details/let-s-flamingle-30734
END:VEVENT

END:VCALENDAR
