BEGIN:VCALENDAR
VERSION:2.0
PRODID:-//ChamberMaster//Event Calendar 2.0//EN
METHOD:PUBLISH
X-PUBLISHED-TTL:P3D
REFRESH-INTERVAL:P3D
CALSCALE:GREGORIAN
BEGIN:VEVENT
DTSTART:20240823T223000Z
DTEND:20240824T010000Z
X-MICROSOFT-CDO-ALLDAYEVENT:FALSE
SUMMARY:Lake Wisconsin Country Club Couples Golf Outing
DESCRIPTION:Join us for a Fun night of golf\, and Wine and Dine after Golf.\n\n\n\n4 person team(2 couples) 9 hole scramble format with hole events on the course.\n\n\n\nMake your own foursomes or we can pair you up with another couple.\n\n\n\n$10 per couple (cash only) goes just for prizes for hole events and winning teams and random team winner.\n\nGolf and cart for a non member couple is $60\n\n\n\nWe also are open for Friday Night Fish after you come until 9pm\n\n\n\nCall the Golf Shop at 608 643-2405 to sign up or email golfshop@lakewisconsincc.com
X-ALT-DESC;FMTTYPE=text/html:Join us for a Fun night of golf\, and Wine and Dine after Golf.<br />\n<br />\n4 person team(2 couples) 9 hole scramble format with hole events on the course.<br />\n<br />\nMake your own foursomes or we can pair you up with another couple.<br />\n<br />\n$10 per couple (cash only) goes just for prizes for hole events and winning teams and random team winner.<br />\nGolf and cart for a non member couple is $60<br />\n<br />\nWe also are open for Friday Night Fish after you come until 9pm<br />\n<br />\nCall the Golf Shop at 608 643-2405 to sign up or email golfshop@lakewisconsincc.com<br />\n<br />\n&nbsp\;
LOCATION:Lake Wisconsin County Club
UID:e.1184.32980
SEQUENCE:3
DTSTAMP:20260420T001209Z
URL:http://business.saukprairie.com/events/details/lake-wisconsin-country-club-couples-golf-outing-32980
END:VEVENT

END:VCALENDAR
