BEGIN:VCALENDAR
VERSION:2.0
PRODID:-//ChamberMaster//Event Calendar 2.0//EN
METHOD:PUBLISH
X-PUBLISHED-TTL:P3D
REFRESH-INTERVAL:P3D
CALSCALE:GREGORIAN
BEGIN:VEVENT
DTSTART:20240309T150000Z
DTEND:20240309T210000Z
X-MICROSOFT-CDO-ALLDAYEVENT:FALSE
SUMMARY:Knit Socks! with Mother of Purl at River Arts Gallery on Water
DESCRIPTION:Learn to knit socks! Knitting socks is an initiation for knitters. There's something about turning the heel that really makes one feel like an expert and that they can accomplish anything! As the instructor\, I will walk you through knitting your own pair of socks using the flap\, heel\, and\, gusset method. We will use a dk or worsted weight yarn (to ensure we can finish in a reasonable amount of time).  Students will be personally guided through each step in sock knitting\, and we will discuss as a group how one may customize and design their own stitch patterns.  By the end of the class you will have one sock complete! it will be up to you to make a second sock using the written instructions provided as a refresher.\n\n \n\nSkills Include:\n\n-Swatching\n\n-Casting on\n\n-Short rows\n\n-Decreases\n\n-Slipping stitches\n\n-Knitting and purling in the round\n\n-Kitchener stitch\n\nStudents should feel comfortable knitting and purling before coming to class.\n\nList of materials:\n\n(bring your own or provided)\n\n9 inch circular needles. (size us 3-4)\n\nset of dpns in same size\n\ndk weight yarn (400 yards)\n\n(bring your own or borrow)\n\nbasic knitting notions. (scissors\, tapestry needle)\n\nmeasuring tape
X-ALT-DESC;FMTTYPE=text/html:<p>Learn to knit socks! Knitting socks is an initiation for knitters. There&rsquo\;s something about turning the heel that really makes one feel like an expert and that they can accomplish anything! As the instructor\, I will walk you through knitting your own pair of socks using the flap\, heel\, and\, gusset method. We will use a dk or worsted weight yarn (to ensure we can finish in a reasonable amount of time).&nbsp\; Students will be personally guided through each step in sock knitting\, and we will discuss as a group how one may customize and design their own stitch patterns.&nbsp\; By the end of the class you will have one sock complete! it will be up to you to make a second sock using the written instructions provided as a refresher.</p>\n\n<p>&nbsp\;</p>\n\n<p><strong>Skills Include:</strong><br />\n-Swatching<br />\n-Casting on<br />\n-Short rows<br />\n-Decreases<br />\n-Slipping stitches<br />\n-Knitting and purling in the round<br />\n-Kitchener stitch<br />\nStudents should feel comfortable knitting and purling before coming to class.</p>\n\n<p><strong>List of materials:</strong><br />\n(bring your own or provided)<br />\n9 inch circular needles. (size us 3-4)<br />\nset of dpns in same size<br />\ndk weight yarn (400 yards)</p>\n\n<p>(bring your own or borrow)<br />\nbasic knitting notions. (scissors\, tapestry needle)<br />\nmeasuring tape</p>\n
LOCATION:River Arts Gallery on Water
UID:e.1184.31493
SEQUENCE:3
DTSTAMP:20260420T073030Z
URL:http://business.saukprairie.com/events/details/knit-socks-with-mother-of-purl-at-river-arts-gallery-on-water-31493
END:VEVENT

END:VCALENDAR
