BEGIN:VCALENDAR
VERSION:2.0
PRODID:-//ChamberMaster//Event Calendar 2.0//EN
METHOD:PUBLISH
X-PUBLISHED-TTL:P3D
REFRESH-INTERVAL:P3D
CALSCALE:GREGORIAN
BEGIN:VEVENT
DTSTART:20240928T180000Z
DTEND:20240929T000000Z
X-MICROSOFT-CDO-ALLDAYEVENT:FALSE
SUMMARY:KINDFEST
DESCRIPTION:Join BE KIND SP33 for a day of music\, games and community! WEST ON 12 performance\, Bags tournament\, BINGO\, Raffles\, Food trucks\, Drinks and Mental Health resources!
X-ALT-DESC;FMTTYPE=text/html:Join BE KIND SP33 for a day of music\, games and community! WEST ON 12 performance\, Bags tournament\, BINGO\, Raffles\, Food trucks\, Drinks and Mental Health resources!
LOCATION:Culver Community Park
UID:e.1184.32861
SEQUENCE:3
DTSTAMP:20260419T225201Z
URL:http://business.saukprairie.com/events/details/kindfest-32861
END:VEVENT

END:VCALENDAR
