BEGIN:VCALENDAR
VERSION:2.0
PRODID:-//ChamberMaster//Event Calendar 2.0//EN
METHOD:PUBLISH
X-PUBLISHED-TTL:P3D
REFRESH-INTERVAL:P3D
CALSCALE:GREGORIAN
BEGIN:VEVENT
DTSTART:20230606T233000Z
DTEND:20230607T013000Z
X-MICROSOFT-CDO-ALLDAYEVENT:FALSE
SUMMARY:June Tunes - The Water Street Jacks
DESCRIPTION:Every Tuesday in June brings a new band to Meyer Oak Grove Park. Non-Profit food stands\, Food Trucks & Fun! Bring your blanket and a couple of friends for a relaxing evening in the park. This Tuesday we feature Water Street Jacks.\n\n\n\nFood Trucks:\n\nWOW Sammiches & Joes's\n\n\n\nWater Street Jacks is an Americana\, folk-rock band out of southern WI. We feature four-part harmonies\, unique covers\, and about a dozen original tunes. Also\, check out their website for upcoming dates and pictures.
X-ALT-DESC;FMTTYPE=text/html:Every Tuesday in June brings a new band to Meyer Oak Grove Park. Non-Profit food stands\, Food Trucks &amp\; Fun! Bring your blanket and a couple of friends for a relaxing evening in the park. This Tuesday we feature <strong>Water Street Jacks.</strong><br />\n<br />\n<strong>Food Trucks:</strong><br />\nWOW Sammiches &amp\; Joes&#39\;s<br />\n<br />\nWater Street Jacks is an Americana\, folk-rock band out of southern WI. We feature four-part harmonies\, unique covers\, and about a dozen original tunes. Also\, check out their <a href="https://sites.google.com/view/waterstreetjacks">website</a> for upcoming dates and pictures.
LOCATION:Meyer Oak Grove Park
UID:e.1184.27140
SEQUENCE:3
DTSTAMP:20260420T205504Z
URL:http://business.saukprairie.com/events/details/june-tunes-the-water-street-jacks-27140
END:VEVENT

END:VCALENDAR
