BEGIN:VCALENDAR
VERSION:2.0
PRODID:-//ChamberMaster//Event Calendar 2.0//EN
METHOD:PUBLISH
X-PUBLISHED-TTL:P3D
REFRESH-INTERVAL:P3D
CALSCALE:GREGORIAN
BEGIN:VEVENT
DTSTART:20230709T200000Z
DTEND:20230709T220000Z
X-MICROSOFT-CDO-ALLDAYEVENT:FALSE
SUMMARY:Joseph Huber at The Vines
DESCRIPTION:Joseph Huber is playing 3-5pm Sunday July 9th. Doors open at 2pm. $15 per adult\, kids 15 and under are free. We don't sell food or drinks\, so please bring your own snacks and drinks. A great time is included
X-ALT-DESC;FMTTYPE=text/html:<span style="color: rgb(5\, 5\, 5)\; font-family: &quot\;Segoe UI Historic&quot\;\, &quot\;Segoe UI&quot\;\, Helvetica\, Arial\, sans-serif\; font-size: 15px\;">Joseph Huber is playing 3-5pm Sunday July 9th. Doors open at 2pm. $15 per adult\, kids 15 and under are free. We don&rsquo\;t sell food or drinks\, so please bring your own snacks and drinks. A great time is included</span>
LOCATION:The Vines W12002 Schoepp rd\, Sauk City
UID:e.1184.30895
SEQUENCE:3
DTSTAMP:20260420T192444Z
URL:http://business.saukprairie.com/events/details/joseph-huber-at-the-vines-30895
END:VEVENT

END:VCALENDAR
