BEGIN:VCALENDAR
VERSION:2.0
PRODID:-//ChamberMaster//Event Calendar 2.0//EN
METHOD:PUBLISH
X-PUBLISHED-TTL:P3D
REFRESH-INTERVAL:P3D
CALSCALE:GREGORIAN
BEGIN:VEVENT
DTSTART:20230812T180000Z
DTEND:20230812T210000Z
X-MICROSOFT-CDO-ALLDAYEVENT:FALSE
SUMMARY:Intro to Reverse Tye-Dye Techniques with Emily Popp
DESCRIPTION:590 Water St\, Prairie du Sac\, WI 53578\n\nSat\, Aug 12\, 2023 | 1   4 pm | Deadline to register: Aug 5\n\n$55 + $5 kit fee/person\n\nAges 12+\n\nRefresh your wardrobe by customizing it with a reverse dye-job!  Enhance\, embellish\, make it fancy\, or just play with reverse tye-dye techniques in this workshop led by Emily Popp.\n\nThis class is an introduction to selecting and preparing fabric for the bleach dye or bleach painting method\; making the bleach mixture\; and folding\, tying\, and lettering techniques of the bleach dye process.  Students will bring in their own garments to customize in this class\, please wash your garments beforehand.  Garments must be 100% cotton and either black or dark color for best results.\n\nThe kit fee includes a tray\, paintbrush\, spray bottle\, and ingredients bleach mixture.\n\nAll levels of experience are welcome\, this class is even a great activity for tweens and teens!  \n\n*please note that there will be a good amount of outdoor time in this workshop for ventilation needs.  If you are sensitive to the scent of bleach\, feel free to bring a mask!
X-ALT-DESC;FMTTYPE=text/html:<p><strong>590 Water St\, Prairie du Sac\, WI 53578</strong></p>\n\n<p><strong>Sat\, Aug 12\, 2023 | 1 &ndash\; 4 pm</strong>&nbsp\;| Deadline to register: Aug 5</p>\n\n<p><strong>$55 + $5 kit fee/person</strong></p>\n\n<p><strong>Ages 12+</strong></p>\n\n<p>Refresh your wardrobe by customizing it with a reverse dye-job!&nbsp\; Enhance\, embellish\, make it fancy\, or just play with reverse tye-dye techniques in this workshop led by Emily Popp.</p>\n\n<p>This class is an introduction to selecting and preparing fabric for the bleach dye or bleach painting method\; making the bleach mixture\; and folding\, tying\, and lettering techniques of the bleach dye process.&nbsp\; Students will bring in their own garments to customize in this class\, please wash your garments beforehand.&nbsp\; Garments must be 100% cotton and either black or dark color for best results.</p>\n\n<p>The kit fee includes a tray\, paintbrush\, spray bottle\, and ingredients bleach mixture.</p>\n\n<p>All levels of experience are welcome\, this class is even a great activity for tweens and teens!&nbsp\;&nbsp\;</p>\n\n<p>*please note that there will be a good amount of outdoor time in this workshop for ventilation needs.&nbsp\; If you are sensitive to the scent of bleach\, feel free to bring a mask!</p>\n
LOCATION:River Arts on Water Gallery. 590 Water Street\, Prairie du Sac\, WI\, 53578
UID:e.1184.30747
SEQUENCE:3
DTSTAMP:20260420T164826Z
URL:http://business.saukprairie.com/events/details/intro-to-reverse-tye-dye-techniques-with-emily-popp-30747
END:VEVENT

END:VCALENDAR
