BEGIN:VCALENDAR
VERSION:2.0
PRODID:-//ChamberMaster//Event Calendar 2.0//EN
METHOD:PUBLISH
X-PUBLISHED-TTL:P3D
REFRESH-INTERVAL:P3D
CALSCALE:GREGORIAN
BEGIN:VEVENT
DTSTART:20230715T000000Z
DTEND:20230715T020000Z
X-MICROSOFT-CDO-ALLDAYEVENT:FALSE
SUMMARY:House Concert: Giese Girls
DESCRIPTION:Friday\, July 14\, 2023 7pm\n\n$15\n\nat River Arts on Water (590 Water St\, downtown Prairie du Sac)\n\nThe Giese sisters\, Lindsey and Jessica\, are back with their favorite Broadway and pop tunes and will be accompanied by Dr. Kristine Bengston on piano.\n\nMany of you know Lindsey as the Executive Director of River Arts Inc\, but prior to this role\, she was the lead singer for Holland America and Celebrity Cruises. She holds 2 Bachelor of Fine Arts in Music Theatre and Arts Administration and recently finished touring the Midwest with The Dang-Its in a review show entitled "Sweet Dreams and Honky Tonks."\n\nJessica Winn holds a Bachelor of Music degree from Butler University and a Master of Music degree from the University of Wisconsin-Madison. She currently resides in Madison and owns a personal chef business along with assisting local artisan food makers with sales.\n\nThey will be accompanied by the lovely Dr. Kristine Bengtson.  Kristine is an active recitalist\, collaborative artist and teacher based in Madison\, Wisconsin. She is a nationally certified member of the Music Teachers' National Association and holds a Doctorate of Musical Arts Degree from the University of Wisconsin Madison
X-ALT-DESC;FMTTYPE=text/html:<p><strong>Friday\, July 14\, 2023 7pm</strong></p>\n\n<p>$15</p>\n\n<p><strong>at River Arts on Water (590 Water St\, downtown Prairie du Sac)</strong></p>\n\n<p>The Giese sisters\, Lindsey and Jessica\, are back with their favorite Broadway and pop tunes and will be accompanied by Dr. Kristine Bengston on piano.</p>\n\n<p>Many of you know Lindsey as the Executive Director of River Arts Inc\, but prior to this role\, she was the lead singer for Holland America and Celebrity Cruises. She holds 2 Bachelor of Fine Arts in Music Theatre and Arts Administration and recently finished touring the Midwest with The Dang-Its in a review show entitled &ldquo\;Sweet Dreams and Honky Tonks.&rdquo\;</p>\n\n<p>Jessica Winn holds a Bachelor of Music degree from Butler University and a Master of Music degree from the University of Wisconsin-Madison. She currently resides in Madison and owns a personal chef business along with assisting local artisan food makers with sales.</p>\n\n<p>They will be accompanied by the lovely Dr. Kristine Bengtson.&nbsp\; Kristine is an active recitalist\, collaborative artist and teacher based in Madison\, Wisconsin. She is a nationally certified member of the Music Teachers&rsquo\; National Association and holds a Doctorate of Musical Arts Degree from the University of Wisconsin Madison</p>\n
LOCATION:River Arts on Water Gallery. 590 Water Street\, Prairie du Sac\, WI\, 53578
UID:e.1184.30753
SEQUENCE:3
DTSTAMP:20260420T181042Z
URL:http://business.saukprairie.com/events/details/house-concert-giese-girls-30753
END:VEVENT

END:VCALENDAR
