BEGIN:VCALENDAR
VERSION:2.0
PRODID:-//ChamberMaster//Event Calendar 2.0//EN
METHOD:PUBLISH
X-PUBLISHED-TTL:P3D
REFRESH-INTERVAL:P3D
CALSCALE:GREGORIAN
BEGIN:VEVENT
DTSTART;VALUE=DATE:20230621
DTEND;VALUE=DATE:20230622
TRANSP:TRANSPARENT
X-MICROSOFT-CDO-ALLDAYEVENT:TRUE
SUMMARY:Hollywood Golf Outing
DESCRIPTION:30th Annual Golf Outing\n\nRegister Today\n\nJune 21\, 2023\n\nLake Wisconsin Country Club\n\nN1076 Golf Road\, Prairie du Sac\, WI 53578\n\n\n	10:30 AM: Registration\n	11:00 AM: Lunch\n	Noon: Shotgun Start scramble-style tournament with\n	games\, snacks and drinks\n	5-7:30 PM: Dinner on the patio followed by awards ceremony\n\n\nHollywood attire encouraged!\n\nIndividual Golfer   $175\n\n2017 pricing\, back by popular demand\, includes lunch\, golf\, dinner\n\nBusiness Golf Foursome   $1\,100\n\nWith all of the above and lots of opportunities to promote your business at the event\n\nDinner Only   $50 per person\n\nThe choice of non-golfers who want to join the fun.\n\nYour participation helps Sauk Prairie Healthcare Foundation support the hospital\, employees and the community.
X-ALT-DESC;FMTTYPE=text/html:<h2 style="box-sizing: border-box\; margin: 0.6em 0px 0px\; font-size: 2rem\; line-height: 1.16667\; color: rgb(121\, 68\, 0)\; font-family: Montserrat\, sans-serif\;">30th Annual Golf Outing</h2>\n\n<p style="box-sizing: border-box\; font-size: 1.056rem\; line-height: 1.68421\; color: rgb(24\, 24\, 24)\; margin: 0.7em 0px 1em\; font-family: Montserrat\, sans-serif\;"><a aria-describedby="audioeye_new_window_message" class="btn v1" href="https://www.saukprairiehealthcare.org/documents/Golf-Registration-Form-2023-FINAL.pdf" style="box-sizing: border-box\; text-decoration-line: none\; transition: all 0.4s ease 0s\; color: rgb(255\, 255\, 255)\; display: inline-block\; position: relative\; font-size: 1.056rem\; font-weight: 600\; line-height: 1.15789\; letter-spacing: 0px\; padding: 0.5rem 3.222rem\; background-color: rgb(86\, 100\, 35)\; text-align: center\; border: 2px solid transparent\;" target="_blank">Register Today</a></p>\n\n<p style="box-sizing: border-box\; font-size: 1.056rem\; line-height: 1.68421\; color: rgb(24\, 24\, 24)\; margin: 0.7em 0px 1em\; font-family: Montserrat\, sans-serif\;"><span style="box-sizing: border-box\; font-weight: 600\;">June 21\, 2023<br style="box-sizing: border-box\;" />\nLake Wisconsin Country Club<br style="box-sizing: border-box\;" />\nN1076 Golf Road\, Prairie du Sac\, WI 53578</span></p>\n\n<ul style="box-sizing: border-box\; list-style: none\; margin: 1em 0px\; padding-right: 0px\; padding-left: 1em\; line-height: 1.65\; font-size: 1.111rem\; color: rgb(24\, 24\, 24)\; font-family: Montserrat\, sans-serif\;">\n	<li style="box-sizing: border-box\; position: relative\; padding-left: 1em\; margin-bottom: 0.556rem\;">10:30 AM: Registration</li>\n	<li style="box-sizing: border-box\; position: relative\; padding-left: 1em\; margin-bottom: 0.556rem\;">11:00 AM: Lunch</li>\n	<li style="box-sizing: border-box\; position: relative\; padding-left: 1em\; margin-bottom: 0.556rem\;">Noon: Shotgun Start scramble-style tournament with</li>\n	<li style="box-sizing: border-box\; position: relative\; padding-left: 1em\; margin-bottom: 0.556rem\;">games\, snacks and drinks</li>\n	<li style="box-sizing: border-box\; position: relative\; padding-left: 1em\; margin-bottom: 0.556rem\;">5-7:30 PM: Dinner on the patio followed by awards ceremony</li>\n</ul>\n\n<p style="box-sizing: border-box\; font-size: 1.056rem\; line-height: 1.68421\; color: rgb(24\, 24\, 24)\; margin: 0.7em 0px 1em\; font-family: Montserrat\, sans-serif\; text-align: center\;"><span style="box-sizing: border-box\; font-weight: 600\;">Hollywood attire encouraged!</span></p>\n\n<p style="box-sizing: border-box\; font-size: 1.056rem\; line-height: 1.68421\; color: rgb(24\, 24\, 24)\; margin: 0.7em 0px 1em\; font-family: Montserrat\, sans-serif\;"><span style="box-sizing: border-box\; font-weight: 600\;">Individual Golfer &mdash\; $175</span><br style="box-sizing: border-box\;" />\n2017 pricing\, back by popular demand\, includes lunch\, golf\, dinner</p>\n\n<p style="box-sizing: border-box\; font-size: 1.056rem\; line-height: 1.68421\; color: rgb(24\, 24\, 24)\; margin: 0.7em 0px 1em\; font-family: Montserrat\, sans-serif\;"><span style="box-sizing: border-box\; font-weight: 600\;">Business Golf Foursome &mdash\; $1\,100</span><br style="box-sizing: border-box\;" />\nWith all of the above and lots of opportunities to promote your business at the event</p>\n\n<p style="box-sizing: border-box\; font-size: 1.056rem\; line-height: 1.68421\; color: rgb(24\, 24\, 24)\; margin: 0.7em 0px 1em\; font-family: Montserrat\, sans-serif\;"><span style="box-sizing: border-box\; font-weight: 600\;">Dinner Only &mdash\; $50 per person</span><br style="box-sizing: border-box\;" />\nThe choice of non-golfers who want to join the fun.</p>\n\n<p style="box-sizing: border-box\; font-size: 1.056rem\; line-height: 1.68421\; color: rgb(24\, 24\, 24)\; margin-top: 0.7em\; margin-right: 0px\; margin-left: 0px\; font-family: Montserrat\, sans-serif\; margin-bottom: 0px !important\;">Your participation helps Sauk Prairie Healthcare Foundation support the hospital\, employees and the community.</p>\n
LOCATION:
UID:e.1184.30868
SEQUENCE:3
DTSTAMP:20260420T204856Z
URL:http://business.saukprairie.com/events/details/hollywood-golf-outing-30868
END:VEVENT

END:VCALENDAR
