BEGIN:VCALENDAR
VERSION:2.0
PRODID:-//ChamberMaster//Event Calendar 2.0//EN
METHOD:PUBLISH
X-PUBLISHED-TTL:P3D
REFRESH-INTERVAL:P3D
CALSCALE:GREGORIAN
BEGIN:VEVENT
DTSTART:20240907T230000Z
DTEND:20240908T020000Z
X-MICROSOFT-CDO-ALLDAYEVENT:FALSE
SUMMARY:Heatbox @ The Vines
DESCRIPTION:Heatbox at The Vines Saturday September 7th at 7pm\, doors open at 6pm. 10$ cover charge per person when you buy ticket online or $15 day of. Bring your own snack and non-alcoholic beverages. NO alcoholic carry-ins allowed. The Vines Bar sells beer\, wine\, and seltzers. We have some seating available\, but just in case\, bring your own lawn chair. Kids 15 or under are free. It is outdoor event. Hope to see you at The Vines this Saturday!\n\nHeatbox is a professional beatboxer\, loop artist\, singer\, and voice actor. He makes a living making sounds with his mouth. He has performed in almost every state in the United States as well as in Canada\, Mexico\, The Netherlands\, Scotland\, China\, Dubai\, Qatar\, and New Zealand. He has sold thousands of records.\n\nHe is also a songwriter\, music arranger\, audio engineer\, video editor\, video game designer\, computer programmer\, game show host\, and the guy his parents call to fix their computer.
X-ALT-DESC;FMTTYPE=text/html:<div class="xdj266r x11i5rnm xat24cr x1mh8g0r x1vvkbs" color:="" font-size:="" segoe="" style="margin: 0px\; overflow-wrap: break-word\; font-family: " ui="">Heatbox at The Vines Saturday September 7th at 7pm\, doors open at 6pm. 10$ cover charge per person when you buy ticket online or $15 day of. Bring your own snack and non-alcoholic beverages. NO alcoholic carry-ins allowed. The Vines Bar sells beer\, wine\, and seltzers. We have some seating available\, but just in case\, bring your own lawn chair. Kids 15 or under are free. It is outdoor event. Hope to see you at The Vines this Saturday!</div>\n\n<div class="x11i5rnm xat24cr x1mh8g0r x1vvkbs xtlvy1s" color:="" font-size:="" segoe="" style="margin: 0.5em 0px 0px\; overflow-wrap: break-word\; font-family: " ui="">Heatbox is a professional beatboxer\, loop artist\, singer\, and voice actor. He makes a living making sounds with his mouth. He has performed in almost every state in the United States as well as in Canada\, Mexico\, The Netherlands\, Scotland\, China\, Dubai\, Qatar\, and New Zealand. He has sold thousands of records.</div>\n\n<div class="x11i5rnm xat24cr x1mh8g0r x1vvkbs xtlvy1s" color:="" font-size:="" segoe="" style="margin: 0.5em 0px 0px\; overflow-wrap: break-word\; font-family: " ui="">He is also a songwriter\, music arranger\, audio engineer\, video editor\, video game designer\, computer programmer\, game show host\, and the guy his parents call to fix their computer.&nbsp\;</div>\n
LOCATION:The Vines
UID:e.1184.33047
SEQUENCE:3
DTSTAMP:20260419T225318Z
URL:http://business.saukprairie.com/events/details/heatbox-the-vines-33047
END:VEVENT

END:VCALENDAR
