BEGIN:VCALENDAR
VERSION:2.0
PRODID:-//ChamberMaster//Event Calendar 2.0//EN
METHOD:PUBLISH
X-PUBLISHED-TTL:P3D
REFRESH-INTERVAL:P3D
CALSCALE:GREGORIAN
BEGIN:VEVENT
DTSTART;VALUE=DATE:20241017
DTEND;VALUE=DATE:20241018
TRANSP:TRANSPARENT
X-MICROSOFT-CDO-ALLDAYEVENT:TRUE
SUMMARY:Groundbreaking - Community Annoucement!
DESCRIPTION:Please join us for an exciting community announcement and groundbreaking ceremony as we take another step toward enhancing our local resources to support families and workers.\n\nWe invite you to be part of this milestone event as we celebrate new developments that will continue to strengthen and invest in our community.\n\nYour presence would be invaluable as we move forward together\, shaping a brighter future!\n\nKindly RSVP by emailing your attendance to\n\ninformation@saukprairie.com or call 608.643.4168
X-ALT-DESC;FMTTYPE=text/html:<p>Please join us for an exciting community announcement and groundbreaking ceremony as we take another step toward enhancing our local resources to support families and workers.</p>\n\n<p>We invite you to be part of this milestone event as we celebrate new developments that will continue to strengthen and invest in our community.</p>\n\n<p>Your presence would be invaluable as we move forward together\, shaping a brighter future!</p>\n\n<p>Kindly RSVP by emailing your attendance to<br />\n<a href="mailto:information@saukprairie.com?subject=Groundbreaking">information@saukprairie.com</a> or call 608.643.4168</p>\n
LOCATION:Culver Community Park (South Lot) 340 21st Street | Prairie du Sac\, WI 53578
UID:e.1184.33466
SEQUENCE:3
DTSTAMP:20260419T213117Z
URL:http://business.saukprairie.com/events/details/groundbreaking-community-annoucement-33466
END:VEVENT

END:VCALENDAR
