BEGIN:VCALENDAR
VERSION:2.0
PRODID:-//ChamberMaster//Event Calendar 2.0//EN
METHOD:PUBLISH
X-PUBLISHED-TTL:P3D
REFRESH-INTERVAL:P3D
CALSCALE:GREGORIAN
BEGIN:VEVENT
DTSTART:20240502T210000Z
DTEND:20240503T000000Z
X-MICROSOFT-CDO-ALLDAYEVENT:FALSE
SUMMARY:Grand Opening & Ribbon Cutting - Peak Yoga Wellness
DESCRIPTION:Join us as we celebrate Peak Yoga Wellness 1 Year Anniversary with a grand opening & ribbon cutting.
X-ALT-DESC;FMTTYPE=text/html:Join us as we celebrate Peak Yoga Wellness 1 Year Anniversary with a grand opening &amp\; ribbon cutting.&nbsp\;
LOCATION:350 Prairie Street Prairie du Sac
UID:e.1184.32309
SEQUENCE:3
DTSTAMP:20260420T042539Z
URL:http://business.saukprairie.com/events/details/grand-opening-ribbon-cutting-peak-yoga-wellness-32309
END:VEVENT

END:VCALENDAR
