BEGIN:VCALENDAR
VERSION:2.0
PRODID:-//ChamberMaster//Event Calendar 2.0//EN
METHOD:PUBLISH
X-PUBLISHED-TTL:P3D
REFRESH-INTERVAL:P3D
CALSCALE:GREGORIAN
BEGIN:VEVENT
DTSTART;VALUE=DATE:20240719
DTEND;VALUE=DATE:20240720
TRANSP:TRANSPARENT
X-MICROSOFT-CDO-ALLDAYEVENT:TRUE
SUMMARY:Golf Fore Hope
DESCRIPTION:Teel Presents Golf Fore Hope - A Fundraiser for Hope House of South Central WI\n\n\n\nTickets are available for groups of four\, two\, single golfers\, and for those who just want to enjoy the luncheon and silent auction.\n\n\n\nJuly 18\, 2024 @ Lake WI Country Club\n\n	10:45 am - Registration\n	11:00 am - Luncheon\n	12:00 pm - Shotgun Start\n	2:00 pm - Silent Auction at the Turn\n	4:00 pm - Auction close out and Awards\n\nFor more information\, including ticket prices and purchasing info\, please visit here.
X-ALT-DESC;FMTTYPE=text/html:Teel Presents Golf Fore Hope - A Fundraiser for Hope House of South Central WI<br />\n<br />\nTickets are available for groups of four\, two\, single golfers\, and for those who just want to enjoy the luncheon and silent auction.<br />\n<br />\nJuly 18\, 2024 @ Lake WI Country Club\n<ul>\n	<li>10:45 am - Registration</li>\n	<li>11:00 am - Luncheon</li>\n	<li>12:00 pm - Shotgun Start</li>\n	<li>2:00 pm - Silent Auction at the Turn</li>\n	<li>4:00 pm - Auction close out and Awards</li>\n</ul>\nFor more information\, including ticket prices and purchasing info\, please visit <u><strong><a href="http://www.hopehousescw.org/golf">here</a>.</strong></u>
LOCATION:Lake WI Country Club
UID:e.1184.32627
SEQUENCE:3
DTSTAMP:20260420T012547Z
URL:http://business.saukprairie.com/events/details/golf-fore-hope-32627
END:VEVENT

END:VCALENDAR
