BEGIN:VCALENDAR
VERSION:2.0
PRODID:-//ChamberMaster//Event Calendar 2.0//EN
METHOD:PUBLISH
X-PUBLISHED-TTL:P3D
REFRESH-INTERVAL:P3D
CALSCALE:GREGORIAN
BEGIN:VEVENT
DTSTART:20240506T231500Z
DTEND:20240507T010000Z
X-MICROSOFT-CDO-ALLDAYEVENT:FALSE
SUMMARY:Georgia O'Keeffe: Her Life & Art
DESCRIPTION:Georgia O'Keeffe researcher Joe Chase\, who lives in Sun Prairie where the artist was born\, will speak on the many facets of O'Keeffe's life and art and her connection to Sauk Prairie. Sponsored by the Friends of the Ruth Culver Community Library.
X-ALT-DESC;FMTTYPE=text/html:Georgia O&rsquo\;Keeffe researcher Joe Chase\, who lives in Sun Prairie where the artist was born\, will speak on the many facets of O&#39\;Keeffe&#39\;s life and art and her connection to Sauk Prairie. Sponsored by the Friends of the Ruth Culver Community Library.
LOCATION:Ruth Culver Community Library
UID:e.1184.32400
SEQUENCE:3
DTSTAMP:20260420T042218Z
URL:http://business.saukprairie.com/events/details/georgia-o-keeffe-her-life-art-32400
END:VEVENT

END:VCALENDAR
