BEGIN:VCALENDAR
VERSION:2.0
PRODID:-//ChamberMaster//Event Calendar 2.0//EN
METHOD:PUBLISH
X-PUBLISHED-TTL:P3D
REFRESH-INTERVAL:P3D
CALSCALE:GREGORIAN
BEGIN:VEVENT
DTSTART;VALUE=DATE:20240306
DTEND;VALUE=DATE:20240307
TRANSP:TRANSPARENT
X-MICROSOFT-CDO-ALLDAYEVENT:TRUE
SUMMARY:Geode Break & Make
DESCRIPTION:Geode Break & Make @ Ruth Culver Community Library in Prairie du Sac starting @ 4 PM\n\n\n\nJoin us at the library for a fun geode-focused program! We'll be talking about how geodes are formed before breaking into a few and then crafting our own using egg shell cartons and salt. For grades K-5. No registration required unless you'd like an email reminder.
X-ALT-DESC;FMTTYPE=text/html:Geode Break &amp\; Make @ Ruth Culver Community Library in Prairie du Sac starting @ 4 PM<br />\n<br />\nJoin us at the library for a fun geode-focused program! We&#39\;ll be talking about how geodes are formed before breaking into a few and then crafting our own using egg shell cartons and salt. For grades K-5. No registration required unless you&#39\;d like an email reminder.
LOCATION:Ruth Culver Community Library - Prairie du Sac
UID:e.1184.31582
SEQUENCE:3
DTSTAMP:20260420T071823Z
URL:http://business.saukprairie.com/events/details/geode-break-make-31582
END:VEVENT

END:VCALENDAR
