BEGIN:VCALENDAR
VERSION:2.0
PRODID:-//ChamberMaster//Event Calendar 2.0//EN
METHOD:PUBLISH
X-PUBLISHED-TTL:P3D
REFRESH-INTERVAL:P3D
CALSCALE:GREGORIAN
BEGIN:VEVENT
DTSTART:20250213T233000Z
DTEND:20250214T013000Z
X-MICROSOFT-CDO-ALLDAYEVENT:FALSE
SUMMARY:Galentines Gala @ ReTwist-T
DESCRIPTION:After Hours Galentines Gala\n\n\n\nThursday\, February 13th\, 5:30-7:30pm @ ReTwist-t\n\n \n\n\n\nCelebrate friendship and fun at our Galentines Gala event! Join us for sips n' snacks\, choose your fave way to relax\, and enjoy a motivational moment\, too...Because\, at ReTwist-T\, Galentines is all about YOU!
X-ALT-DESC;FMTTYPE=text/html:<div><a data-hook="title" href="https://www.retwist-t.com/event-details/after-hours-galentines-gala" tabindex="0">After Hours Galentines Gala</a></div>\n\n<div>\n<div data-hook="ev-short-date-location">\n<div data-hook="short-date">Thursday\, February 13th\, 5:30-7:30pm @ ReTwist-t</div>\n\n<div>&nbsp\;</div>\n</div>\n</div>\n\n<div>Celebrate friendship and fun at our Galentines Gala event! Join us for sips n&#39\; snacks\, choose your fave way to relax\, and enjoy a motivational moment\, too...Because\, at ReTwist-T\, Galentines is all about YOU!</div>\n
LOCATION:ReTwist-t
UID:e.1184.34821
SEQUENCE:3
DTSTAMP:20260419T153200Z
URL:http://business.saukprairie.com/events/details/galentines-gala-retwist-t-34821
END:VEVENT

END:VCALENDAR
