BEGIN:VCALENDAR
VERSION:2.0
PRODID:-//ChamberMaster//Event Calendar 2.0//EN
METHOD:PUBLISH
X-PUBLISHED-TTL:P3D
REFRESH-INTERVAL:P3D
CALSCALE:GREGORIAN
BEGIN:VEVENT
DTSTART:20230708T160000Z
DTEND:20230708T200000Z
X-MICROSOFT-CDO-ALLDAYEVENT:FALSE
SUMMARY:FUNctional! Handmade Journals with Barbara Justice
DESCRIPTION:Learn how to make functional\, handmade journals for uses such as poetry journaling\, diaries\, scrapbooking\, watercolor booklets\, sketchbooks\, or photo albums. Workshop attendees will learn how to make 3- and 5-Hole Pamphlet Stitch book forms. Material demonstrated for books will include found and collected ephemera\, which attendees can bring and use. Folding and stitching techniques will be introduced. No glue or adhesive necessary!
X-ALT-DESC;FMTTYPE=text/html:<span style="background-color:rgb(255\, 255\, 255)\; font-family:arial\,helvetica\,sans-serif\; font-size:13px">Learn how to make functional\, handmade journals for uses such as poetry journaling\, diaries\, scrapbooking\, watercolor booklets\, sketchbooks\, or photo albums. Workshop attendees will learn how to make 3- and 5-Hole Pamphlet Stitch book forms. Material demonstrated for books will include found and collected ephemera\, which attendees can bring and use. Folding and stitching techniques will be introduced. No glue or adhesive necessary!&nbsp\;</span>
LOCATION:River Arts on Water Gallery. 590 Water Street\, Prairie du Sac\, WI\, 53578
UID:e.1184.30743
SEQUENCE:3
DTSTAMP:20260420T182828Z
URL:http://business.saukprairie.com/events/details/functional-handmade-journals-with-barbara-justice-30743
END:VEVENT

END:VCALENDAR
