BEGIN:VCALENDAR
VERSION:2.0
PRODID:-//ChamberMaster//Event Calendar 2.0//EN
METHOD:PUBLISH
X-PUBLISHED-TTL:P3D
REFRESH-INTERVAL:P3D
CALSCALE:GREGORIAN
BEGIN:VEVENT
DTSTART:20240601T160000Z
DTEND:20240601T200000Z
X-MICROSOFT-CDO-ALLDAYEVENT:FALSE
SUMMARY:FUNctional! Handmade Journals with Barbara Justice
DESCRIPTION:FUNctional! Handmade Journals with Barbara Justice\n\n590 Water St\, Prairie du Sac\, WI 53578\n\nSat\, June 1\, 2024 | 11 am   3 pm | Deadline to register: May 25\n\n$45/person\n\nAges 13+\n\nREGISTER HERE\n\nLearn how to make functional\, handmade journals for uses such as poetry journaling\, diaries\, scrapbooking\, watercolor booklets\, sketchbooks\, or photo albums. Workshop attendees will learn how to make 3- and 5-Hole Pamphlet Stitch book forms. Material demonstrated for books will include found and collected ephemera\, which attendees can bring and use. Folding and stitching techniques will be introduced. No glue or adhesive necessary!
X-ALT-DESC;FMTTYPE=text/html:<h4><strong>FUNctional! Handmade Journals with Barbara Justice</strong></h4>\n\n<p><strong>590 Water St\, Prairie du Sac\, WI 53578</strong></p>\n\n<p><strong>Sat\, June 1\, 2024 | 11 am &ndash\; 3 pm</strong>&nbsp\;| Deadline to register: May 25</p>\n\n<p><strong>$45/person</strong></p>\n\n<p><strong>Ages 13+</strong></p>\n\n<div><a class="vc_general vc_btn3 vc_btn3-size-md vc_btn3-shape-rounded vc_btn3-style-modern vc_btn3-color-chino" href="https://www.riverartsinc.org/product/journals-barbara-class/" style="padding: 14px 20px\; margin: 0px\; text-decoration-line: none\; color: rgb(255\, 255\, 255)\; display: inline-block\; text-align: center\; vertical-align: middle\; cursor: pointer\; background-image: linear-gradient(rgba(255\, 255\, 255\, 0.2) 0px\, rgba(255\, 255\, 255\, 0.01) 100%)\; background-color: rgb(206\, 194\, 171)\; border: 1px solid rgb(206\, 194\, 171)\; box-sizing: border-box\; overflow-wrap: break-word\; user-select: none\; position: relative\; top: 0px\; transition: all 0.2s ease-in-out 0s\; line-height: normal\; box-shadow: none\; font-size: 14px\; background-repeat: repeat-x\; border-radius: 5px\;" title="">REGISTER HERE</a></div>\n\n<p>Learn how to make functional\, handmade journals for uses such as poetry journaling\, diaries\, scrapbooking\, watercolor booklets\, sketchbooks\, or photo albums. Workshop attendees will learn how to make 3- and 5-Hole Pamphlet Stitch book forms. Material demonstrated for books will include found and collected ephemera\, which attendees can bring and use. Folding and stitching techniques will be introduced. No glue or adhesive necessary!&nbsp\;</p>\n
LOCATION:River Arts Gallery on Water
UID:e.1184.32405
SEQUENCE:3
DTSTAMP:20260420T025028Z
URL:http://business.saukprairie.com/events/details/functional-handmade-journals-with-barbara-justice-06-01-2024-32405
END:VEVENT

END:VCALENDAR
