BEGIN:VCALENDAR
VERSION:2.0
PRODID:-//ChamberMaster//Event Calendar 2.0//EN
METHOD:PUBLISH
X-PUBLISHED-TTL:P3D
REFRESH-INTERVAL:P3D
CALSCALE:GREGORIAN
BEGIN:VEVENT
DTSTART:20250110T000000Z
DTEND:20250110T020000Z
X-MICROSOFT-CDO-ALLDAYEVENT:FALSE
SUMMARY:Frigid Feast - Meat Raffle
DESCRIPTION:Come win some meats in this frigid weather! There will be a minimum of 10 rounds\, $1 per ticket each round. There may also be a 50/50 cash raffle dependent upon interest.\n\n\nFree drink giveaways throughout the event.
X-ALT-DESC;FMTTYPE=text/html:<div>Come win some meats in this frigid weather! There will be a minimum of 10 rounds\, $1 per ticket each round. There may also be a 50/50 cash raffle dependent upon interest.</div>\n<br />\nFree drink giveaways throughout the event.&nbsp\;&nbsp\;
LOCATION:MT Bottle Brewing Company
UID:e.1184.34589
SEQUENCE:3
DTSTAMP:20260419T171124Z
URL:http://business.saukprairie.com/events/details/frigid-feast-meat-raffle-34589
END:VEVENT

END:VCALENDAR
