BEGIN:VCALENDAR
VERSION:2.0
PRODID:-//ChamberMaster//Event Calendar 2.0//EN
METHOD:PUBLISH
X-PUBLISHED-TTL:P3D
REFRESH-INTERVAL:P3D
CALSCALE:GREGORIAN
BEGIN:VEVENT
DTSTART:20250213T150000Z
DTEND:20250213T220000Z
X-MICROSOFT-CDO-ALLDAYEVENT:FALSE
SUMMARY:Friends of Sauk Prairie Healthcare Chocolate Sale Featuring Paul’s Chocolates
DESCRIPTION:Just in time for Valentine's Day! Paul's Chocolates will be in the Sauk Prairie Hospital lobby (260 26th St.\, Prairie du Sac) on Thursday\, February 13 from 9:00 a.m.   4:00 p.m. A portion of the proceeds will benefit the Friends of Sauk Prairie Healthcare to support special hospital and clinic needs.\n\n\n\nCan't make it in-person? Order online at www.PaulsChocolates.com until Tuesday\, February 11. Be sure to include "SPH" after your name to support the Friends. Paul will arrange delivery.\n\n\n\nPaul's Chocolates are produced locally\, contain no preservatives\, and make an excellent gift.
X-ALT-DESC;FMTTYPE=text/html:Just in time for Valentine&rsquo\;s Day! Paul&rsquo\;s Chocolates will be in the Sauk Prairie Hospital lobby (260 26<sup>th</sup> St.\, Prairie du Sac) on Thursday\, February 13 from 9:00 a.m. &ndash\; 4:00 p.m. A portion of the proceeds will benefit the Friends of Sauk Prairie Healthcare to support special hospital and clinic needs.<br />\n<br />\nCan&rsquo\;t make it in-person? Order online at <a href="http://www.paulschocolates.com/">www.PaulsChocolates.com</a> until Tuesday\, February 11. Be sure to include &ldquo\;SPH&rdquo\; after your name to support the Friends. Paul will arrange delivery.<br />\n<br />\nPaul&rsquo\;s Chocolates are produced locally\, contain no preservatives\, and make an excellent gift.
LOCATION:Sauk Prairie Hospital Lobby 260 26th Street\, Prairie du Sac
UID:e.1184.34708
SEQUENCE:3
DTSTAMP:20260419T153904Z
URL:http://business.saukprairie.com/events/details/friends-of-sauk-prairie-healthcare-chocolate-sale-featuring-paul-s-chocolates-02-13-2025-34708
END:VEVENT

END:VCALENDAR
