BEGIN:VCALENDAR
VERSION:2.0
PRODID:-//ChamberMaster//Event Calendar 2.0//EN
METHOD:PUBLISH
X-PUBLISHED-TTL:P3D
REFRESH-INTERVAL:P3D
CALSCALE:GREGORIAN
BEGIN:VEVENT
DTSTART:20241026T140000Z
DTEND:20241026T170000Z
X-MICROSOFT-CDO-ALLDAYEVENT:FALSE
SUMMARY:Free Medication Take Back Day
DESCRIPTION:Protect our environment and drinking water by properly disposing of your expired and unused medications at the Free Medication Take Back Day on Saturday\, October 26\, 2024 from 9:00 a.m. to Noon.\n\n\n\nIn a Ziploc  bag\, combine all pills (discard/recycle empty bottles)\, ointment/creams (discard boxes)\, and powders. Keep liquids in original container. In another bag\, place inhalers\, injectable medications\, and sharps containers. Sharps containers will be available upon request.\n\n\n\nNote: Discard sunscreen\, soaps\, moisturizer\, and other cosmetics in regular trash.\n\n\n\nSponsored by the Drug Enforcement Administration and the Sauk Prairie Healthcare Foundation. Special thanks to the Sauk City and Prairie du Sac Utilities\, Sauk Prairie Police Department\, and Sauk Prairie Healthcare volunteers.
X-ALT-DESC;FMTTYPE=text/html:Protect our environment and drinking water by properly disposing of your expired and unused medications at the Free Medication Take Back Day on Saturday\, October 26\, 2024 from 9:00 a.m. to Noon.<br />\n<br />\nIn a Ziploc&reg\; bag\, combine all pills (discard/recycle empty bottles)\, ointment/creams (discard boxes)\, and powders. Keep liquids in original container. In another bag\, place inhalers\, injectable medications\, and sharps containers. Sharps containers will be available upon request.<br />\n<br />\nNote: Discard sunscreen\, soaps\, moisturizer\, and other cosmetics in regular trash.<br />\n<br />\nSponsored by the Drug Enforcement Administration and the Sauk Prairie Healthcare Foundation. Special thanks to the Sauk City and Prairie du Sac Utilities\, Sauk Prairie Police Department\, and Sauk Prairie Healthcare volunteers.
LOCATION:Sauk Prairie Police Department
UID:e.1184.33439
SEQUENCE:3
DTSTAMP:20260419T213117Z
URL:http://business.saukprairie.com/events/details/free-medication-take-back-day-10-26-2024-33439
END:VEVENT

END:VCALENDAR
