BEGIN:VCALENDAR
VERSION:2.0
PRODID:-//ChamberMaster//Event Calendar 2.0//EN
METHOD:PUBLISH
X-PUBLISHED-TTL:P3D
REFRESH-INTERVAL:P3D
CALSCALE:GREGORIAN
BEGIN:VEVENT
DTSTART:20240518T155000Z
DTEND:20240519T020000Z
X-MICROSOFT-CDO-ALLDAYEVENT:FALSE
SUMMARY:Free - Green Bay Blizzard Game
DESCRIPTION:Free Community Football Game to Green Bay. May 18\, Join the Locals heading up to Green Bay Trip includes Free Coach Bus to and from\, free tickets and free concession coupons. Trip is filling up - First Come Basis More info at www.greenbayblizzardfootball.com
X-ALT-DESC;FMTTYPE=text/html:Free Community Football Game to Green Bay. May 18\, Join the Locals heading up to Green Bay Trip includes Free Coach Bus to and from\, free tickets and free concession coupons. Trip is filling up - First Come Basis More info at www.greenbayblizzardfootball.com
LOCATION:Departure - Sauk City\, Eagle Plaza Shopping Center Game - Resch Stadium\, Green Bay\, WI
UID:e.1184.32329
SEQUENCE:3
DTSTAMP:20260420T042136Z
URL:http://business.saukprairie.com/events/details/free-green-bay-blizzard-game-32329
END:VEVENT

END:VCALENDAR
