BEGIN:VCALENDAR
VERSION:2.0
PRODID:-//ChamberMaster//Event Calendar 2.0//EN
METHOD:PUBLISH
X-PUBLISHED-TTL:P3D
REFRESH-INTERVAL:P3D
CALSCALE:GREGORIAN
BEGIN:VEVENT
DTSTART:20240412T230000Z
DTEND:20240413T000000Z
X-MICROSOFT-CDO-ALLDAYEVENT:FALSE
SUMMARY:Fearless! Youth Paint Nights with Jyneal Radke
DESCRIPTION:Instructor Jyneal will guide kids through creating a unique acrylic painting on a 12 x 12 canvas from start to finish! We'll work on color mixing\, paint texture techniques\, and have a blast along the way!\n\n\n\nStay tuned for each of the painting subjects to be announced soon!\n\n\n\nAll classes are standalone   register for just one or all of them! Parents can drop kids off and come back or wait in the gallery. Kids only in the studio!\n\n\n\nIf you are interested in this workshop but are experiencing a financial barrier\, you can apply for a scholarship by clicking here.\n\n\n\nScroll down for a preview of the upcoming project and this season's Fearless! Youth Paint Night Dates!\n\n\n\nRegistration closes the Wednesday before the scheduled event.\n\n\n\nRegister here.
X-ALT-DESC;FMTTYPE=text/html:Instructor Jyneal will guide kids through creating a unique acrylic painting on a 12 x 12 canvas from start to finish! We&rsquo\;ll work on color mixing\, paint texture techniques\, and have a blast along the way!<br />\n<br />\nStay tuned for each of the painting subjects to be announced soon!<br />\n<br />\nAll classes are standalone &ndash\; register for just one or all of them! Parents can drop kids off and come back or wait in the gallery. Kids only in the studio!<br />\n<br />\nIf you are interested in this workshop but are experiencing a financial barrier\, you can apply for a scholarship by clicking <u><strong><a href="https://docs.google.com/forms/d/e/1FAIpQLSd_Az2LcMbjuwqxgpu4JjLrXfxVrOcL3Oa0Y7LGM4i5x1aUSQ/viewform">here</a>.</strong></u><br />\n<br />\nScroll down for a preview of the upcoming project and this season&rsquo\;s Fearless! Youth Paint Night Dates!<br />\n<br />\nRegistration closes the Wednesday before the scheduled event.<br />\n<br />\nRegister <u><strong><a href="https://www.riverartsinc.org/product/youth-paint/">here.</a></strong></u>
LOCATION:River Arts Gallery on Water
UID:e.1184.32047
SEQUENCE:3
DTSTAMP:20260420T055944Z
URL:http://business.saukprairie.com/events/details/fearless-youth-paint-nights-with-jyneal-radke-32047
END:VEVENT

END:VCALENDAR
