BEGIN:VCALENDAR
VERSION:2.0
PRODID:-//ChamberMaster//Event Calendar 2.0//EN
METHOD:PUBLISH
X-PUBLISHED-TTL:P3D
REFRESH-INTERVAL:P3D
CALSCALE:GREGORIAN
BEGIN:VEVENT
DTSTART:20230811T230000Z
DTEND:20230812T000000Z
X-MICROSOFT-CDO-ALLDAYEVENT:FALSE
SUMMARY:Fearless! Youth Paint Night with Jyneal Radke
DESCRIPTION:Ages 8-12\n\nInstructor Jyneal will guide kids through creating a unique acrylic painting on a 12 x 12  canvas from start to finish! We'll work on color mixing\, paint texture techniques\, and have a blast along the way! Stay tuned for each of the painting subjects to be announced soon! All classes are standalone   register for just one or all of them!\n\nParents can drop kids off and come back or wait in the gallery. Kids only in the studio!
X-ALT-DESC;FMTTYPE=text/html:<p><strong>Ages 8-12</strong></p>\n\n<p>Instructor Jyneal will guide kids through creating a unique acrylic painting on a 12 x 12&Prime\; canvas from start to finish! We&rsquo\;ll work on color mixing\, paint texture techniques\, and have a blast along the way! Stay tuned for each of the painting subjects to be announced soon! All classes are standalone &ndash\; register for just one or all of them!</p>\n\n<p>Parents can drop kids off and come back or wait in the gallery. Kids only in the studio!</p>\n
LOCATION:River Arts on Water Gallery. 590 Water Street\, Prairie du Sac\, WI\, 53578
UID:e.1184.30756
SEQUENCE:3
DTSTAMP:20260420T165853Z
URL:http://business.saukprairie.com/events/details/fearless-youth-paint-night-with-jyneal-radke-08-11-2023-30756
END:VEVENT

END:VCALENDAR
