BEGIN:VCALENDAR
VERSION:2.0
PRODID:-//ChamberMaster//Event Calendar 2.0//EN
METHOD:PUBLISH
X-PUBLISHED-TTL:P3D
REFRESH-INTERVAL:P3D
CALSCALE:GREGORIAN
BEGIN:VEVENT
DTSTART;VALUE=DATE:20240311
DTEND;VALUE=DATE:20240312
TRANSP:TRANSPARENT
X-MICROSOFT-CDO-ALLDAYEVENT:TRUE
SUMMARY:Drop-In Jewelry Making
DESCRIPTION:Drop-In Jewelry Making @ Ruth Culver Community Library in Prairie du Sac starting @ 6 PM\n\n\n\nDrop in and create your own jewelry! We'll put out our stash of beads and you can make whatever you'd like. Basic instruction will be available. Open to ages 18+. Registration is appreciated but not required. Thank you to the Friends of the Ruth Culver Community Library for sponsoring this event.
X-ALT-DESC;FMTTYPE=text/html:Drop-In Jewelry Making @ Ruth Culver Community Library in Prairie du Sac starting @ 6 PM<br />\n<br />\nDrop in and create your own jewelry! We&rsquo\;ll put out our stash of beads and you can make whatever you&rsquo\;d like. Basic instruction will be available. Open to ages 18+. Registration is appreciated but not required. Thank you to the Friends of the Ruth Culver Community Library for sponsoring this event.
LOCATION:Ruth Culver Community Library - Prairie du Sac
UID:e.1184.31584
SEQUENCE:3
DTSTAMP:20260420T072401Z
URL:http://business.saukprairie.com/events/details/drop-in-jewelry-making-31584
END:VEVENT

END:VCALENDAR
