BEGIN:VCALENDAR
VERSION:2.0
PRODID:-//ChamberMaster//Event Calendar 2.0//EN
METHOD:PUBLISH
X-PUBLISHED-TTL:P3D
REFRESH-INTERVAL:P3D
CALSCALE:GREGORIAN
BEGIN:VEVENT
DTSTART:20230724T230000Z
DTEND:20230724T230000Z
X-MICROSOFT-CDO-ALLDAYEVENT:FALSE
SUMMARY:Drag Bingo: Back to the 80s!
DESCRIPTION:Drag Bingo featuring Bianca Lynn Breeze\, Mercedes Benzova\, Loretta Love Lee\, and Tha Snick L. Diamond! Hosted at AL. Ringling Brewing Co. Bingo starts at 6pm. AGES 18+.\n\nW e have a full bar serving our craft beers brewed on site\, wine\, seltzers\, cocktails\, and non-alcoholic beverages\; plus our "Pie Car" kitchen serving up shareable appetizers and meal entrees.\n\nPurchase tickets as soon as possible for the advanced purchase discount! Tickets available online via EventBrite or paper tickets at the bar
X-ALT-DESC;FMTTYPE=text/html:<div class="xdj266r x11i5rnm xat24cr x1mh8g0r x1vvkbs" style="margin: 0px\; overflow-wrap: break-word\; font-family: &quot\;Segoe UI Historic&quot\;\, &quot\;Segoe UI&quot\;\, Helvetica\, Arial\, sans-serif\; color: rgb(5\, 5\, 5)\; font-size: 15px\;">Drag Bingo featuring Bianca Lynn Breeze\, Mercedes Benzova\, Loretta Love Lee\, and Tha Snick L. Diamond! Hosted at AL. Ringling Brewing Co. Bingo starts at 6pm. AGES 18+.</div>\n\n<div class="x11i5rnm xat24cr x1mh8g0r x1vvkbs xtlvy1s" style="margin: 0.5em 0px 0px\; overflow-wrap: break-word\; font-family: &quot\;Segoe UI Historic&quot\;\, &quot\;Segoe UI&quot\;\, Helvetica\, Arial\, sans-serif\; color: rgb(5\, 5\, 5)\; font-size: 15px\;">W&#65279\;e have a full bar serving our craft beers brewed on site\, wine\, seltzers\, cocktails\, and non-alcoholic beverages\; plus our &quot\;Pie Car&quot\; kitchen serving up shareable appetizers and meal entrees.</div>\n\n<div class="x11i5rnm xat24cr x1mh8g0r x1vvkbs xtlvy1s" style="margin: 0.5em 0px 0px\; overflow-wrap: break-word\; font-family: &quot\;Segoe UI Historic&quot\;\, &quot\;Segoe UI&quot\;\, Helvetica\, Arial\, sans-serif\; color: rgb(5\, 5\, 5)\; font-size: 15px\;">Purchase tickets as soon as possible for the advanced purchase discount! Tickets available online via EventBrite or paper tickets at the bar</div>\n
LOCATION:AL. Ringling Brewing Company 623 Broadway Street\, Baraboo
UID:e.1184.30901
SEQUENCE:3
DTSTAMP:20260420T180508Z
URL:http://business.saukprairie.com/events/details/drag-bingo-back-to-the-80s-30901
END:VEVENT

END:VCALENDAR
