BEGIN:VCALENDAR
VERSION:2.0
PRODID:-//ChamberMaster//Event Calendar 2.0//EN
METHOD:PUBLISH
X-PUBLISHED-TTL:P3D
REFRESH-INTERVAL:P3D
CALSCALE:GREGORIAN
BEGIN:VEVENT
DTSTART:20230705T180000Z
DTEND:20230705T190000Z
X-MICROSOFT-CDO-ALLDAYEVENT:FALSE
SUMMARY:Dot Art for kids
DESCRIPTION:Decorate a canvas using various instruments to create a fun dot pattern.
X-ALT-DESC;FMTTYPE=text/html:Decorate a canvas using various instruments to create a fun dot pattern.
LOCATION:615 Phillips Blvd Sauk City\, WI 53583
UID:e.1184.30864
SEQUENCE:3
DTSTAMP:20260420T180256Z
URL:http://business.saukprairie.com/events/details/dot-painting-30864
END:VEVENT

END:VCALENDAR
