BEGIN:VCALENDAR
VERSION:2.0
PRODID:-//ChamberMaster//Event Calendar 2.0//EN
METHOD:PUBLISH
X-PUBLISHED-TTL:P3D
REFRESH-INTERVAL:P3D
CALSCALE:GREGORIAN
BEGIN:VEVENT
DTSTART:20240402T150000Z
DTEND:20240404T230000Z
X-MICROSOFT-CDO-ALLDAYEVENT:FALSE
SUMMARY:Dinys Jewelers is Hosting our Semi-Annual Buying Event! 3 Days Only!
DESCRIPTION:Do you have items just lying around? We are buying for cash or 20% in store credit above cash value! Coins\, Watches\, Antique Toys\, Estate Jewelry\, Collectibles\, Fine Art\, Sterling Silver\, Gold\, and Diamonds!
X-ALT-DESC;FMTTYPE=text/html:Do you have items just lying around? We are buying for cash or 20% in store credit above cash value! Coins\, Watches\, Antique Toys\, Estate Jewelry\, Collectibles\, Fine Art\, Sterling Silver\, Gold\, and Diamonds!
LOCATION:1903 Cayuga St\, Suite 105 Middleton WI 53562
UID:e.1184.32304
SEQUENCE:3
DTSTAMP:20260420T060148Z
URL:http://business.saukprairie.com/events/details/dinys-jewelers-is-hosting-our-semi-annual-buying-event-3-days-only-32304
END:VEVENT

END:VCALENDAR
