BEGIN:VCALENDAR
VERSION:2.0
PRODID:-//ChamberMaster//Event Calendar 2.0//EN
METHOD:PUBLISH
X-PUBLISHED-TTL:P3D
REFRESH-INTERVAL:P3D
CALSCALE:GREGORIAN
BEGIN:VEVENT
DTSTART:20230822T150000Z
DTEND:20230824T220000Z
X-MICROSOFT-CDO-ALLDAYEVENT:FALSE
SUMMARY:Diny's Jewelers 3 Day Buying Event
DESCRIPTION:3 Days Only!\n\nDiscover the worth of your jewelry\, coins\, watches\, antiques and other valuables during our three day Estate Buying Event. We buy almost everything! We'll provide you with free\, honest appraisals based on our 35 years of experience. Plus\, make you a generous offer on those items you wish to sell.\n\nHosted by\n\nDiny's Jewelers - Middleton
X-ALT-DESC;FMTTYPE=text/html:<div class="xdj266r x11i5rnm xat24cr x1mh8g0r x1vvkbs" style="margin: 0px\; overflow-wrap: break-word\; font-family: &quot\;Segoe UI Historic&quot\;\, &quot\;Segoe UI&quot\;\, Helvetica\, Arial\, sans-serif\; color: rgb(5\, 5\, 5)\; font-size: 15px\;">3 Days Only!</div>\n\n<div class="x11i5rnm xat24cr x1mh8g0r x1vvkbs xtlvy1s" style="margin: 0.5em 0px 0px\; overflow-wrap: break-word\; font-family: &quot\;Segoe UI Historic&quot\;\, &quot\;Segoe UI&quot\;\, Helvetica\, Arial\, sans-serif\; color: rgb(5\, 5\, 5)\; font-size: 15px\;">Discover the worth of your jewelry\, coins\, watches\, antiques and other valuables during our three day Estate Buying Event. We buy almost everything! We&#39\;ll provide you with free\, honest appraisals based on our 35 years of experience. Plus\, make you a generous offer on those items you wish to sell.</div>\n\n<div class="x11i5rnm xat24cr x1mh8g0r x1vvkbs xtlvy1s" style="margin: 0.5em 0px 0px\; overflow-wrap: break-word\; font-family: &quot\;Segoe UI Historic&quot\;\, &quot\;Segoe UI&quot\;\, Helvetica\, Arial\, sans-serif\; color: rgb(5\, 5\, 5)\; font-size: 15px\;">Hosted by<br />\nDiny&#39\;s Jewelers - Middleton</div>\n
LOCATION:Diny's Jewelers 1903 Cayuga St\, Ste 105\, Middleton
UID:e.1184.30904
SEQUENCE:3
DTSTAMP:20260420T165800Z
URL:http://business.saukprairie.com/events/details/diny-s-jewelers-3-day-buying-event-30904
END:VEVENT

END:VCALENDAR
