BEGIN:VCALENDAR
VERSION:2.0
PRODID:-//ChamberMaster//Event Calendar 2.0//EN
METHOD:PUBLISH
X-PUBLISHED-TTL:P3D
REFRESH-INTERVAL:P3D
CALSCALE:GREGORIAN
BEGIN:VEVENT
DTSTART:20240728T210000Z
DTEND:20240728T230000Z
X-MICROSOFT-CDO-ALLDAYEVENT:FALSE
SUMMARY:Dan Maguire at The Vines
DESCRIPTION:Matt Maguire will be at The Vines\n\nSunday\, July 28th starting @ 4pm\n\nTickets $5 per person!!! Kids 15 and under free.\n\nThe Vines bar will be open\, so no alcoholic carry-ins allowed. Bring your snacks and chairs.
X-ALT-DESC;FMTTYPE=text/html:Matt Maguire will be at The Vines<br />\nSunday\, July 28th starting @ 4pm<br />\nTickets $5 per person!!! Kids 15 and under free.<br />\nThe Vines bar will be open\, so no alcoholic carry-ins allowed. Bring your snacks and chairs.
LOCATION:The Vines
UID:e.1184.32888
SEQUENCE:3
DTSTAMP:20260420T012712Z
URL:http://business.saukprairie.com/events/details/dan-maguire-at-the-vines-32888
END:VEVENT

END:VCALENDAR
