BEGIN:VCALENDAR
VERSION:2.0
PRODID:-//ChamberMaster//Event Calendar 2.0//EN
METHOD:PUBLISH
X-PUBLISHED-TTL:P3D
REFRESH-INTERVAL:P3D
CALSCALE:GREGORIAN
BEGIN:VEVENT
DTSTART:20240730T150000Z
DTEND:20240730T170000Z
X-MICROSOFT-CDO-ALLDAYEVENT:FALSE
SUMMARY:Dairy Day @ Ruth Culver Community Library
DESCRIPTION:In partnership with Prairie Raised Beef\, we are hosting a Dairy Day!\n\n\n\nAfter a brief talk and some dairy trivia as a group\, we'll have a number of stations set up including a live calf feeding demonstration\, a milking practice station\, and more dairy-related related activities.\n\n\n\nPlease join us for this educational event!
X-ALT-DESC;FMTTYPE=text/html:In partnership with Prairie Raised Beef\, we are hosting a Dairy Day!<br />\n<br />\nAfter a brief talk and some dairy trivia as a group\, we&#39\;ll have a number of stations set up including a live calf feeding demonstration\, a milking practice station\, and more dairy-related related activities.<br />\n<br />\nPlease join us for this educational event!&nbsp\;
LOCATION:Ruth Culver Community Library - Prairie du Sac
UID:e.1184.32891
SEQUENCE:3
DTSTAMP:20260420T012545Z
URL:http://business.saukprairie.com/events/details/dairy-day-ruth-culver-community-library-32891
END:VEVENT

END:VCALENDAR
