BEGIN:VCALENDAR
VERSION:2.0
PRODID:-//ChamberMaster//Event Calendar 2.0//EN
METHOD:PUBLISH
X-PUBLISHED-TTL:P3D
REFRESH-INTERVAL:P3D
CALSCALE:GREGORIAN
BEGIN:VEVENT
DTSTART:20241114T223000Z
DTEND:20241114T233000Z
X-MICROSOFT-CDO-ALLDAYEVENT:FALSE
SUMMARY:Cybersecurity Webinar Hosted by Sun Step Financial
DESCRIPTION:Cybersecurity Webinar 11 -14-2024\n\n\nCybersecurity is changing every day\, and it's more important than ever to protect yourself from online threats.\n\nSun Step Financial and LPL Financial invite you to a virtual seminar that will help you stay safe online.\n\nWhen: Thursday\, November 14th\, 4:30 PM   5:30 PM \n\nWhere:\n\nVirtual Option (Register below)\n\nor\n\nIn-Person Option:\n\nJoin us at The Tee Box\, 809 Water St\, Sauk City\, WI 53583 to watch the webinar on a big screen with the Sun Step Financial team!\n\n\n\nClick here to Register.
X-ALT-DESC;FMTTYPE=text/html:<h2 data-box-id="1" data-box-type="title" data-section-id="3" id="section3-box1-title">Cybersecurity Webinar 11 -14-2024</h2>\n\n<div data-box-id="1" data-box-type="content" data-section-id="3" id="section3-box1-paragraph">\n<p>Cybersecurity is changing every day\, and it&rsquo\;s more important than ever to protect yourself from online threats.</p>\n\n<p>Sun Step Financial and LPL Financial invite you to a virtual seminar that will help you stay safe online.</p>\n\n<p>When:&nbsp\;Thursday\, November 14th\, 4:30 PM &ndash\; 5:30 PM&#8232\;</p>\n\n<p>Where:</p>\n\n<p>Virtual Option (Register below)</p>\n\n<p>or</p>\n\n<p>In-Person Option:</p>\n\n<p>Join us at The Tee Box\, 809 Water St\, Sauk City\, WI 53583 to watch the webinar on a big screen with the Sun Step Financial team!<br />\n<br />\nClick <u><strong><a href="https://lplfinancial.webex.com/weblink/register/r0a38958cb4b079c0b36aff9994fe4334">here</a></strong></u> to Register.</p>\n</div>\n
LOCATION:The Tee Box
UID:e.1184.34350
SEQUENCE:3
DTSTAMP:20260419T200250Z
URL:http://business.saukprairie.com/events/details/cybersecurity-webinar-hosted-by-sun-step-financial-34350
END:VEVENT

END:VCALENDAR
