BEGIN:VCALENDAR
VERSION:2.0
PRODID:-//ChamberMaster//Event Calendar 2.0//EN
METHOD:PUBLISH
X-PUBLISHED-TTL:P3D
REFRESH-INTERVAL:P3D
CALSCALE:GREGORIAN
BEGIN:VEVENT
DTSTART:20230712T180000Z
DTEND:20230712T190000Z
X-MICROSOFT-CDO-ALLDAYEVENT:FALSE
SUMMARY:Curious Kids Club: Where's Booker?
DESCRIPTION:Calling all detectives! Grab your passports and gather clues to solve where on earth Booker\, our library dragon\, has flown off to. This interactive program will have you learning about different cultures by playing games\, making crafts\, and sampling foods from around the globe.
X-ALT-DESC;FMTTYPE=text/html:Calling all detectives! Grab your passports and gather clues to solve where on earth Booker\, our library dragon\, has flown off to. This interactive program will have you learning about different cultures by playing games\, making crafts\, and sampling foods from around the globe.&nbsp\;
LOCATION:615 Phillips Blvd. Sauk City\, WI 53583
UID:e.1184.30808
SEQUENCE:3
DTSTAMP:20260420T180923Z
URL:http://business.saukprairie.com/events/details/curious-kids-club-where-s-booker-07-12-2023-30808
END:VEVENT

END:VCALENDAR
