BEGIN:VCALENDAR
VERSION:2.0
PRODID:-//ChamberMaster//Event Calendar 2.0//EN
METHOD:PUBLISH
X-PUBLISHED-TTL:P3D
REFRESH-INTERVAL:P3D
CALSCALE:GREGORIAN
BEGIN:VEVENT
DTSTART:20240326T210000Z
DTEND:20240327T010000Z
X-MICROSOFT-CDO-ALLDAYEVENT:FALSE
SUMMARY:Culver's Share Night
DESCRIPTION:Make Your Meal Matter\n\n\n\nTuesday\, March 26 from 4-8pm\n\n\n\nJoin us in supporting Heroes for Honor\, as 10% of all sales will be donated.\n\n\n\nHeroes for Honor is a Service Organization that raises funds in the Great Sauk Prairie are to support Badger Honor Flight.\n\n\n\nJoin us and consider giving what you can to our local cause today.\n\n\n\nThank you for your support!
X-ALT-DESC;FMTTYPE=text/html:<strong>Make Your Meal Matter</strong><br />\n<br />\nTuesday\, March 26 from 4-8pm<br />\n<br />\nJoin us in supporting Heroes for Honor\, as 10% of all sales will be donated.<br />\n<br />\nHeroes for Honor is a Service Organization that raises funds in the Great Sauk Prairie are to support Badger Honor Flight.<br />\n<br />\nJoin us and consider giving what you can to our local cause today.<br />\n<br />\nThank you for your support!
LOCATION:Culver's Sauk City
UID:e.1184.32062
SEQUENCE:3
DTSTAMP:20260420T071843Z
URL:http://business.saukprairie.com/events/details/culver-s-share-night-32062
END:VEVENT

END:VCALENDAR
