BEGIN:VCALENDAR
VERSION:2.0
PRODID:-//ChamberMaster//Event Calendar 2.0//EN
METHOD:PUBLISH
X-PUBLISHED-TTL:P3D
REFRESH-INTERVAL:P3D
CALSCALE:GREGORIAN
BEGIN:VEVENT
DTSTART:20240718T150000Z
DTEND:20240718T170000Z
X-MICROSOFT-CDO-ALLDAYEVENT:FALSE
SUMMARY:Culver's 40th Birthday Celebration
DESCRIPTION:Come Celebrate Culver's 40th Birthday @ Culver's of Sauk City\n\n\n\nJuly 18\, 2024\n\n\n\nCelebration from 10am-Noon\n\nCeremony begins promptly at 10am
X-ALT-DESC;FMTTYPE=text/html:Come Celebrate Culver&#39\;s 40th Birthday @ Culver&#39\;s of Sauk City<br />\n<br />\nJuly 18\, 2024<br />\n<br />\nCelebration from 10am-Noon<br />\nCeremony begins promptly at 10am
LOCATION:Culver's of Sauk City
UID:e.1184.32866
SEQUENCE:3
DTSTAMP:20260420T012651Z
URL:http://business.saukprairie.com/events/details/culver-s-40th-birthday-celebration-32866
END:VEVENT

END:VCALENDAR
