BEGIN:VCALENDAR
VERSION:2.0
PRODID:-//ChamberMaster//Event Calendar 2.0//EN
METHOD:PUBLISH
X-PUBLISHED-TTL:P3D
REFRESH-INTERVAL:P3D
CALSCALE:GREGORIAN
BEGIN:VEVENT
DTSTART:20241218T000000Z
DTEND:20241218T010000Z
X-MICROSOFT-CDO-ALLDAYEVENT:FALSE
SUMMARY:Craft for Cats
DESCRIPTION:Join us for a purrfect event! Bring the whole family to our library and help sew catnip pouches and tie cozy blankets for cats in need! Whether you're crafting for your furry friend or donating to local shelters\, every stitch counts! Let's make this holiday season extra warm and fuzzy! Refreshments will be provided.
X-ALT-DESC;FMTTYPE=text/html:Join us for a purrfect event! Bring the whole family to our library and help sew catnip pouches and tie cozy blankets for cats in need! Whether you&rsquo\;re crafting for your furry friend or donating to local shelters\, every stitch counts! Let&rsquo\;s make this holiday season extra warm and fuzzy! Refreshments will be provided.&nbsp\;
LOCATION:615 Phillips Blvd. Sauk City\, WI 53583
UID:e.1184.34534
SEQUENCE:3
DTSTAMP:20260419T183340Z
URL:http://business.saukprairie.com/events/details/craft-for-cats-34534
END:VEVENT

END:VCALENDAR
