BEGIN:VCALENDAR
VERSION:2.0
PRODID:-//ChamberMaster//Event Calendar 2.0//EN
METHOD:PUBLISH
X-PUBLISHED-TTL:P3D
REFRESH-INTERVAL:P3D
CALSCALE:GREGORIAN
BEGIN:VEVENT
DTSTART;VALUE=DATE:20240831
DTEND;VALUE=DATE:20240901
TRANSP:TRANSPARENT
X-MICROSOFT-CDO-ALLDAYEVENT:TRUE
SUMMARY:Cow Chip Classic 5k Run/Walk & 10k Run
DESCRIPTION:The 44th annual 10K Run and 5K Run/Walk\, sponsored by the Sauk Prairie\n\nCommunity Club\, is being held in conjunction with the Wisconsin State Cow\n\nChip Throw on Labor Day weekend.  \n\nRACE INFORMATION:\n\nThe race will be recorded with "Chip Timing." Transponder chips used for\n\nrecording will be attached to the race bib. Please allow extra time for\n\npickup.\n\n- Race starts 8:00 a.m. next to Marion Park\, corner of Grand & Fourth\,\n\n(near outdoor pool).\n\n- No animals on race course or in the park.\n\n- All proceeds from the race are donated back into the community through the\n\nSauk Prairie Community Club.\n\n\n\nAGE DIVISIONS - 5 & 10K:\n\n- 0-14\, 5-year age brackets thru 70\, 70 & over for both male and female.\n\n- Plaques awarded to winners\, and medals to 2nd and 3rd place finishers.\n\n\n\nSERVICES & FACILITIES:\n\n- Refreshments and snacks served after\n\nthe race.\n\nRegistration\n\nRegister Online Here or Download\, Print & Send 2024 Registration Form \n\nOnline registration closes after Noon CDT on Thursday\, 8/29/24.\n\n \n\nPacket & T-shirt Pickup\n\nItems are available for pickup At Marion Park (On the corner of Grand & Fourth Street near the pool in Prairie du Sac\, WI).\n\nFriday\, August 30th\, 2024 from 5   7 PM OR Saturday\, August 31st from 6:30   7:45 AM.\n\nRACE STARTS at 8:00 AM.\n\n\n\n\n\n\n\n\n\n\n\n\n\n\n5K Run/Walk Route\n\n5K starts near Marion Park with a start LINE in the middle of Fourth St. just north of the Registration tent and the the outdoor city pool.\n\nThe race will go up Fourth Street to Prairie Street (PF)\, across the Hwy. 60 bridge\, left on Golf Road to a turnaround point at the golf course and back to the finish line along the same route back to Marion Park.\n\n \n\n10K Run Route\n\nThe 10K starts at the same point\, up Fourth Street to Prairie Street (PF)\, across the bridge on Hwy. 60\, up the hill to Hwy. 188\, left on 188 to Golf Road\, left on Golf Road and back to Hwy. 60 and Marion Park\, along the same route back to the finish line.
X-ALT-DESC;FMTTYPE=text/html:<div class="vc_row wpb_row vc_row-fluid dt-default" style="padding: 0px\; margin: 0px -15px\; box-sizing: border-box\; color: rgb(0\, 0\, 0)\; font-family: Arial\, Helvetica\, Arial\, Verdana\, sans-serif\; font-size: 15px\; min-height: 0px\;">\n<div class="wpb_column vc_column_container vc_col-sm-12" style="padding: 0px\; margin: 0px\; width: 1130px\; position: relative\; min-height: 1px\; box-sizing: border-box\; float: left\;">\n<div class="vc_column-inner" style="padding: 0px 15px\; margin: 0px\; box-sizing: border-box\; width: 1130px\;">\n<div class="wpb_wrapper" style="padding: 0px\; margin: 0px\;">\n<div class="wpb_text_column wpb_content_element " style="padding: 0px\; margin: 0px 0px 35px\;">\n<div class="wpb_wrapper" style="padding: 0px\; margin: 0px\;">\n<p helvetica="">The 44th annual 10K Run and 5K Run/Walk\, sponsored by the Sauk Prairie<br />\nCommunity Club\, is being held in conjunction with the Wisconsin State Cow<br />\nChip Throw on Labor Day weekend.&nbsp\;&nbsp\;</p>\n\n<p helvetica="">RACE INFORMATION:</p>\n\n<p helvetica="">The race will be recorded with &ldquo\;Chip Timing.&rdquo\; Transponder chips used for<br />\nrecording will be attached to the race bib. Please allow extra time for<br />\npickup.<br />\n- Race starts 8:00 a.m. next to Marion Park\, corner of Grand &amp\; Fourth\,<br />\n(near outdoor pool).<br />\n- No animals on race course or in the park.<br />\n- All proceeds from the race are donated back into the community through the<br />\nSauk Prairie Community Club.<br />\n<br />\nAGE DIVISIONS - 5 &amp\; 10K:<br />\n- 0-14\, 5-year age brackets thru 70\, 70 &amp\; over for both male and female.<br />\n- Plaques awarded to winners\, and medals to 2nd and 3rd place finishers.<br />\n<br />\nSERVICES &amp\; FACILITIES:<br />\n- Refreshments and snacks served after<br />\nthe race.</p>\n\n<h3 style="padding: 0px\; margin: 0px 0px 10px\; clear: none\; color: var(--the7-h3-color)\; font: var(--the7-h3-font)\; text-transform: var(--the7-h3-text-transform)\; letter-spacing: var(--the7-h3-letter-spacing)\; word-spacing: var(--the7-h3-word-spacing)\; text-decoration: var(--the7-h3-text-decoration)\;">Registration</h3>\n\n<p style="padding: 0px\; margin: 0px 0px 10px\;"><span style="padding: 0px\; margin: 0px\; font-weight: 700\;">Register Online&nbsp\;<u><strong><a href="https://runsignup.com/cowchipclassic" style="padding: 0px\; margin: 0px\; text-decoration-line: none\; color: var(--the7-links-color)\;">Here</a></strong></u>&nbsp\;or&nbsp\;<a href="https://www.wiscowchip.com/wp-content/uploads/2024/02/Registration-form-flyer-2024.pdf" style="padding: 0px\; margin: 0px\; text-decoration-line: none\; color: var(--the7-links-color)\;">Download\, Print &amp\; Send 2024 Registration Form</a>&nbsp\;</span></p>\n\n<p style="padding: 0px\; margin: 0px 0px 10px\;"><em style="padding: 0px\; margin: 0px\;">Online registration closes after Noon CDT on Thursday\, 8/29/24.</em></p>\n\n<p style="padding: 0px\; margin: 0px 0px 10px\;">&nbsp\;</p>\n\n<h3 style="padding: 0px\; margin: 0px 0px 10px\; clear: none\; color: var(--the7-h3-color)\; font: var(--the7-h3-font)\; text-transform: var(--the7-h3-text-transform)\; letter-spacing: var(--the7-h3-letter-spacing)\; word-spacing: var(--the7-h3-word-spacing)\; text-decoration: var(--the7-h3-text-decoration)\;">Packet &amp\; T-shirt Pickup</h3>\n\n<p style="padding: 0px\; margin: 0px 0px 10px\;">Items are available for pickup At Marion Park (On the corner of Grand &amp\; Fourth Street near the pool in Prairie du Sac\, WI).</p>\n\n<p style="padding: 0px\; margin: 0px 0px 10px\;">Friday\, August 30th\, 2024 from 5 &ndash\; 7 PM OR Saturday\, August 31st from 6:30 &ndash\; 7:45 AM.</p>\n\n<p style="padding: 0px\; margin: 12pt 0in 12pt 0px\; line-height: 18pt\;"><span style="padding: 0px\; margin: 0px\; font-weight: 700\;"><span style="padding: 0px\; margin: 0px\; font-size: 14pt\; font-family: Arial\; letter-spacing: 0.15pt\; color: rgb(237\, 27\, 53)\;">RACE STARTS at 8:00 AM.</span></span></p>\n</div>\n</div>\n</div>\n</div>\n</div>\n</div>\n\n<div class="vc_row wpb_row vc_row-fluid dt-default" style="padding: 0px\; margin: 0px -15px\; box-sizing: border-box\; color: rgb(0\, 0\, 0)\; font-family: Arial\, Helvetica\, Arial\, Verdana\, sans-serif\; font-size: 15px\; min-height: 0px\;">\n<div class="wpb_column vc_column_container vc_col-sm-6" style="padding: 0px\; margin: 0px\; width: 565px\; position: relative\; min-height: 1px\; box-sizing: border-box\; float: left\;">\n<div class="vc_column-inner" style="padding: 0px 15px\; margin: 0px\; box-sizing: border-box\; width: 565px\;">\n<div class="wpb_wrapper" style="padding: 0px\; margin: 0px\;">\n<div class="wpb_text_column wpb_content_element " style="padding: 0px\; margin: 0px 0px 35px\;">\n<div class="wpb_wrapper" style="padding: 0px\; margin: 0px\;">\n<div style="padding: 0px\; margin: 0px 16px 0px 0px\; float: left\;">\n<h3 style="padding: 0px\; margin: 0px 0px 10px\; clear: none\; color: var(--the7-h3-color)\; font: var(--the7-h3-font)\; text-transform: var(--the7-h3-text-transform)\; letter-spacing: var(--the7-h3-letter-spacing)\; word-spacing: var(--the7-h3-word-spacing)\; text-decoration: var(--the7-h3-text-decoration)\;">5K Run/Walk Route</h3>\n\n<p style="padding: 0px\; margin: 0px 0px 10px\;">5K starts near Marion Park with a start LINE in the middle of Fourth St. just north of the Registration tent and the the outdoor city pool.</p>\n\n<p style="padding: 0px\; margin: 0px 0px 10px\;">The race will go up&nbsp\;<span style="padding: 0px\; margin: 0px\; font-weight: 700\;">Fourth Street to Prairie Street (PF)\,</span>&nbsp\;across the Hwy. 60 bridge\, left on Golf Road to a turnaround point at the golf course and back to the finish line along the same route back to Marion Park.</p>\n\n<p style="padding: 0px\; margin: 0px 0px 10px\;">&nbsp\;</p>\n\n<h3 style="padding: 0px\; margin: 0px 0px 10px\; clear: none\; color: var(--the7-h3-color)\; font: var(--the7-h3-font)\; text-transform: var(--the7-h3-text-transform)\; letter-spacing: var(--the7-h3-letter-spacing)\; word-spacing: var(--the7-h3-word-spacing)\; text-decoration: var(--the7-h3-text-decoration)\;">10K Run Route</h3>\n\n<p style="padding: 0px\; margin: 0px\;"><span style="padding: 0px\; margin: 0px\;">The 10K starts at the same point\, up&nbsp\;<span style="padding: 0px\; margin: 0px\; font-weight: 700\;">Fourth Street to Prairie Street (PF)</span>\, across the bridge on Hwy. 60\, up the hill to Hwy. 188\, left on 188 to Golf Road\, left on Golf Road and back to Hwy. 60 and Marion Park\, along the same route back to the finish line.</span></p>\n</div>\n</div>\n</div>\n</div>\n</div>\n</div>\n</div>\n
LOCATION:Grand Avenue Elementary School
UID:e.1184.32812
SEQUENCE:3
DTSTAMP:20260420T000337Z
URL:http://business.saukprairie.com/events/details/cow-chip-classic-5k-run-walk-10k-run-32812
END:VEVENT

END:VCALENDAR
